BEGIN:VCALENDAR
VERSION:2.0
PRODID:-//ChamberMaster//Event Calendar 2.0//EN
METHOD:PUBLISH
X-PUBLISHED-TTL:P3D
REFRESH-INTERVAL:P3D
CALSCALE:GREGORIAN
BEGIN:VEVENT
DTSTART:20250220T020000Z
DTEND:20250220T040000Z
X-MICROSOFT-CDO-ALLDAYEVENT:FALSE
SUMMARY:Axe Me Out Tournaments
DESCRIPTION:**Attention all axe and knife throwing enthusiasts!**\n\n\n\nGet ready for an exhilarating night filled with laughter\, competition\, and skill-building!  Join us as we unleash our inner lumberjacks and sharpen our throwing techniques in a friendly environment!  Whether you're a seasoned pro or picking up an axe for the first time\, this night is for you! \n\n\n\nWhy Join Us?\n\n- Fun Vibes:  Enjoy a lively atmosphere where everyone can cheer each other on!  \n\n- Friendly Competition:  Challenge your friends or make new ones as you aim for the bullseye!  \n\n- Skill Improvement:  Learn tips and tricks to enhance your throwing game from experienced instructors!   \n\n\n\nAll levels and ages are welcome!  Bring your friends\, your family\, and your best throwin' spirit!  Let's make some unforgettable memories while having a blast!  So grab your gear and come throw with us you won't want to miss this action-packed night! \n\n\n\nDon't have an axe\, no worries we go you covered!\n\n\n\nMark your calendars and get ready to have some fun! See you there!
X-ALT-DESC;FMTTYPE=text/html:<br />\n<span style="font-size:18px\;"><span style="font-size:22px\;">**Attention all axe and knife throwing enthusiasts!**</span><br />\n<br />\nGet ready for an exhilarating night filled with laughter\, competition\, and skill-building!&nbsp\; Join us as we unleash our inner lumberjacks and sharpen our throwing techniques in a friendly environment!&nbsp\; Whether you&#39\;re a seasoned pro or picking up an axe for the first time\, this night is for you!&nbsp\;<br />\n<br />\nWhy Join Us?<br />\n- Fun Vibes:&nbsp\; Enjoy a lively atmosphere where everyone can cheer each other on!&nbsp\;&nbsp\;<br />\n- Friendly Competition:&nbsp\; Challenge your friends or make new ones as you aim for the bullseye!&nbsp\;&nbsp\;<br />\n- Skill Improvement:&nbsp\; Learn tips and tricks to enhance your throwing game from experienced instructors!&nbsp\; &nbsp\;<br />\n<br />\nAll levels and ages are welcome!&nbsp\; Bring your friends\, your family\, and your best throwin&#39\; spirit!&nbsp\; Let&rsquo\;s make some unforgettable memories while having a blast!&nbsp\; So grab your gear and come throw with us&mdash\;you won&rsquo\;t want to miss this action-packed night!&nbsp\;<br />\n<br />\nDon&#39\;t have an axe\, no worries we go you covered!<br />\n<br />\nMark your calendars and get ready to have some fun! See you there!</span>
LOCATION:Axe Me Out
UID:e.3083.10943
SEQUENCE:3
DTSTAMP:20260421T172902Z
URL:https://members.longmontchamber.org/events/details/axe-me-out-tournaments-10943
END:VEVENT

END:VCALENDAR
