BEGIN:VCALENDAR
VERSION:2.0
PRODID:-//ChamberMaster//Event Calendar 2.0//EN
METHOD:PUBLISH
X-PUBLISHED-TTL:P3D
REFRESH-INTERVAL:P3D
CALSCALE:GREGORIAN
BEGIN:VEVENT
DTSTART:20251012T190000Z
DTEND:20251012T210000Z
X-MICROSOFT-CDO-ALLDAYEVENT:FALSE
SUMMARY:Babes\, Brews\, & Bluegrass
DESCRIPTION:BREWS (inc. N/A\, CBD\, Coffees): 12PM\n\nBABES & BLUEGRASS JAM: 1-3PM\n\n\n\nFeel like playing?  All ages+levels welcome! Complimentary Beverage for all participants to express our gratitude.\n\nBevies will be flowing and the harmonies will be oh so sweet. Ladies\, come to play\, sing\, or listen - this is a safe place for you to try a song\, take a riff\, and enjoy the vibes.  The more the merrier!\n\nAll other human folk\, we'd love for you to come out\, create art\, and enjoy the music!
X-ALT-DESC;FMTTYPE=text/html:<div>BREWS (inc. N/A\, CBD\, Coffees): 12PM<br />\nBABES &amp\; BLUEGRASS JAM: 1-3PM</div>\n\n<div><br />\nFeel like playing?&nbsp\; All ages+levels welcome! Complimentary Beverage for all participants to express our gratitude.</div>\n\n<div>Bevies will be flowing and the harmonies will be oh so sweet. Ladies\, come to play\, sing\, or listen - this is a safe place for you to try a song\, take a riff\, and enjoy the vibes.&nbsp\; The more the merrier!</div>\n\n<div>All other human folk\, we&#39\;d love for you to come out\, create art\, and enjoy the music!</div>\n
LOCATION:Wibby Brewing
UID:e.3083.14481
SEQUENCE:3
DTSTAMP:20260421T052040Z
URL:https://members.longmontchamber.org/events/details/babes-brews-bluegrass-10-12-2025-14481
END:VEVENT

END:VCALENDAR
