BEGIN:VCALENDAR
VERSION:2.0
PRODID:-//ChamberMaster//Event Calendar 2.0//EN
METHOD:PUBLISH
X-PUBLISHED-TTL:P3D
REFRESH-INTERVAL:P3D
CALSCALE:GREGORIAN
BEGIN:VEVENT
DTSTART:20250608T190000Z
DTEND:20250609T000000Z
X-MICROSOFT-CDO-ALLDAYEVENT:FALSE
SUMMARY:Backyard Pride Bazaar
DESCRIPTION:We're hosting a Pride celebration and would love for it to be free for everyone! To make this possible\, we need community sponsors - putting a call out to local small businesses and individual sponsors! All "tickets" purchased are donations. See our sponsorship page in the "show more" dropdown through the link below :)\n\n https://www.butterscotchstudios.com/event-details-registration/2025-backyard-pride-bazaar\n\n\n	Performances by Kate Farmer\, Kenzie Sitterud\, and Montana Sand\n	Art Vendors\n	Kids Activities\n	Food by Kawaii Konbini\n	Drinks by Deep Roots Distillery
X-ALT-DESC;FMTTYPE=text/html:<p style="text-align:initial\;text-align:initial"><br />\n<span style="color:rgb(78\, 56\, 21)\; font-family:avenir-lt-w01_85-heavy1475544\,sans-serif\; font-size:16px"><span style="font-size:20px\;">We&#39\;re hosting a Pride celebration&nbsp\;and would love for it to be free for everyone! To make this possible\, we need community sponsors - putting a call out to local small businesses and individual sponsors! All &quot\;tickets&quot\; purchased are donations. See our sponsorship page in the &quot\;show more&quot\; dropdown through&nbsp\;the link below :)<br />\n&nbsp\;</span></span><a href="https://www.butterscotchstudios.com/event-details-registration/2025-backyard-pride-bazaar"><span style="font-size:20px\;">https://www.butterscotchstudios.com/event-details-registration/2025-backyard-pride-bazaar</span></a></p>\n\n<ul>\n	<li style="text-align: initial\;"><span style="font-size:20px\;"><span style="background-color:var(--ricos-custom-p-background-color\,unset)">Performances by Kate Farmer\, Kenzie Sitterud\, and Montana Sand</span></span></li>\n	<li style="text-align: initial\;"><span style="font-size:20px\;"><span style="background-color:var(--ricos-custom-p-background-color\,unset)"><span style="font-size:20px\;"><span style="background-color:var(--ricos-custom-p-background-color\,unset)\; text-align:initial">Art Vendors</span></span></span></span></li>\n	<li style="text-align: initial\;"><span style="font-size:20px\;"><span style="background-color:var(--ricos-custom-p-background-color\,unset)"><span style="font-size:20px\;"><span style="background-color:var(--ricos-custom-p-background-color\,unset)\; text-align:initial">Kids Activities</span></span></span></span></li>\n	<li style="text-align: initial\;"><span style="font-size:20px\;"><span style="background-color:var(--ricos-custom-p-background-color\,unset)"><span style="font-size:20px\;"><span style="background-color:var(--ricos-custom-p-background-color\,unset)\; text-align:initial">Food by Kawaii Konbini</span></span></span></span></li>\n	<li style="text-align: initial\;"><span style="font-size:20px\;"><span style="background-color:var(--ricos-custom-p-background-color\,unset)"><span style="font-size:20px\;"><span style="background-color:var(--ricos-custom-p-background-color\,unset)\; text-align:initial">Drinks by Deep Roots Distillery</span></span></span></span></li>\n</ul>\n
LOCATION:Butterscotch Studios
UID:e.3083.13314
SEQUENCE:3
DTSTAMP:20260421T110920Z
URL:https://members.longmontchamber.org/events/details/backyard-pride-bazaar-13314
END:VEVENT

END:VCALENDAR
