BEGIN:VCALENDAR
VERSION:2.0
PRODID:-//ChamberMaster//Event Calendar 2.0//EN
METHOD:PUBLISH
X-PUBLISHED-TTL:P3D
REFRESH-INTERVAL:P3D
CALSCALE:GREGORIAN
BEGIN:VEVENT
DTSTART:20220629T170000Z
DTEND:20220629T180000Z
X-MICROSOFT-CDO-ALLDAYEVENT:FALSE
SUMMARY:"Be Ready" Emergency Preparedness 2022-06-29 Safety Training
DESCRIPTION:Be Ready Longmont\n\nPresented by Kevin Esmail\, City of Longmont Office of Emergency Management and Trent Brewer\, Pinnacol Assurance\n\nOne hour basics of emergency preparedness presentation/conversation. Information on Local Alerts\, Warnings\, and follow up messaging.\n\nCommunity and Pinnacol workers compensation safety resources presented.\n\n	Emergency Alerts\n	How to work with others to build strong resilient communities\n	Making Emergency Plans\n	Resources for more education\n\nLunch is included.  Seating limited.
X-ALT-DESC;FMTTYPE=text/html:<strong>Be Ready Longmont</strong><br />\nPresented by Kevin Esmail\, City of Longmont Office of Emergency Management and Trent Brewer\, Pinnacol Assurance<br />\nOne hour basics of emergency preparedness presentation/conversation. Information on Local Alerts\, Warnings\, and follow up messaging.<br />\nCommunity and Pinnacol workers compensation safety resources presented.\n<ul style="list-style-type:circle\;">\n	<li>Emergency Alerts</li>\n	<li>How to work with others to&nbsp\;build strong resilient communities</li>\n	<li>Making Emergency Plans</li>\n	<li>Resources for more education</li>\n</ul>\n<em>Lunch is included.&nbsp\; Seating limited.</em>
LOCATION:Longmont Area Chamber of Commerce 528 Main Street Longmont\, CO 80501
UID:e.3083.8822
SEQUENCE:3
DTSTAMP:20260423T222306Z
URL:https://members.longmontchamber.org/events/details/be-ready-emergency-preparedness-2022-06-29-safety-training-8822
END:VEVENT

END:VCALENDAR
