BEGIN:VCALENDAR
VERSION:2.0
PRODID:-//ChamberMaster//Event Calendar 2.0//EN
METHOD:PUBLISH
X-PUBLISHED-TTL:P3D
REFRESH-INTERVAL:P3D
CALSCALE:GREGORIAN
BEGIN:VEVENT
DTSTART:20250628T210000Z
DTEND:20250629T000000Z
X-MICROSOFT-CDO-ALLDAYEVENT:FALSE
SUMMARY:Beach Party Costume Crawl - Free Jello Shot
DESCRIPTION:Beach Party Costume Crawl\n\n\n\nJoin us for Longmont's DressUP DownTOWN ultimate summer kick-off   the Beach Party Costume Crawl on Saturday\, June 28th from 3PM to 6PM!\n\n\n\nStop in for a FREE Cherry Lime Jello Shot (21+ of course!)\n\nPull a Flamingo Duck for your chance at these fab deals:\n\n	FREE TOTE BAG\n	Additional 10% off ANY item\n	25% or even 50% off a NON-sale item\n\n\n\nBring your beachy best   costumes encouraged and good vibes guaranteed!\n\n\n\nDon't miss the fun   it's going to be a blast!
X-ALT-DESC;FMTTYPE=text/html:<br />\n<span style="color:rgb(28\, 43\, 51)\; font-family:-apple-system\,blinkmacsystemfont\,segoe ui\,roboto\,helvetica\,arial\,sans-serif\,apple color emoji\,segoe ui emoji\,segoe ui symbol\; font-size:14px"><span style="font-size:20px\;"><span style="font-size:24px\;"><strong>Beach Party Costume Crawl</strong></span><br />\n<br />\nJoin us for Longmont&#39\;s DressUP DownTOWN ultimate summer kick-off &mdash\; the Beach Party Costume Crawl on Saturday\, June 28th from 3PM to 6PM!<br />\n<br />\nStop in for a FREE Cherry Lime Jello Shot (21+ of course!)<br />\nPull a Flamingo Duck for your chance at these fab deals:</span></span>\n<ul>\n	<li><span style="color:rgb(28\, 43\, 51)\; font-family:-apple-system\,blinkmacsystemfont\,segoe ui\,roboto\,helvetica\,arial\,sans-serif\,apple color emoji\,segoe ui emoji\,segoe ui symbol\; font-size:14px"><span style="font-size:20px\;">FREE TOTE BAG</span></span></li>\n	<li><span style="color:rgb(28\, 43\, 51)\; font-family:-apple-system\,blinkmacsystemfont\,segoe ui\,roboto\,helvetica\,arial\,sans-serif\,apple color emoji\,segoe ui emoji\,segoe ui symbol\; font-size:14px"><span style="font-size:20px\;">Additional 10% off ANY item</span></span></li>\n	<li><span style="color:rgb(28\, 43\, 51)\; font-family:-apple-system\,blinkmacsystemfont\,segoe ui\,roboto\,helvetica\,arial\,sans-serif\,apple color emoji\,segoe ui emoji\,segoe ui symbol\; font-size:14px"><span style="font-size:20px\;">25% or even 50% off a NON-sale item</span></span></li>\n</ul>\n<br />\n<span style="color:rgb(28\, 43\, 51)\; font-family:-apple-system\,blinkmacsystemfont\,segoe ui\,roboto\,helvetica\,arial\,sans-serif\,apple color emoji\,segoe ui emoji\,segoe ui symbol\; font-size:14px"><span style="font-size:20px\;">Bring your <strong>beachy best</strong> &mdash\; costumes encouraged and good vibes guaranteed!<br />\n<br />\nDon&rsquo\;t miss the fun &mdash\; it&#39\;s going to be a blast!</span></span><br />\n&nbsp\;
LOCATION:Elevated Communities
UID:e.3083.13554
SEQUENCE:3
DTSTAMP:20260421T125035Z
URL:https://members.longmontchamber.org/events/details/beach-party-costume-crawl-free-jello-shot-13554
END:VEVENT

END:VCALENDAR
