BEGIN:VCALENDAR
VERSION:2.0
PRODID:-//ChamberMaster//Event Calendar 2.0//EN
METHOD:PUBLISH
X-PUBLISHED-TTL:P3D
REFRESH-INTERVAL:P3D
CALSCALE:GREGORIAN
BEGIN:VEVENT
DTSTART:20250504T190000Z
DTEND:20250504T210000Z
X-MICROSOFT-CDO-ALLDAYEVENT:FALSE
SUMMARY:Beginner's Jam with Monica LaBonte
DESCRIPTION:Join Monica for a fun beginner's jam session at Butterscotch Studios!\n\nLearn to play together as a group\, take turns with solos\, and build confidence in a relaxed\, supportive environment.
X-ALT-DESC;FMTTYPE=text/html:<br />\n<span style="color:rgb(78\, 56\, 21)\; font-family:avenir-lt-w01_85-heavy1475544\,sans-serif\; font-size:16px"><span style="font-size:22px">Join Monica for a fun beginner&rsquo\;s jam session at Butterscotch Studios!<br />\nLearn to play together as a group\, take turns with solos\, and build confidence in a relaxed\, supportive environment.</span></span>
LOCATION:Butterscotch Studios
UID:e.3083.13305
SEQUENCE:3
DTSTAMP:20260421T125327Z
URL:https://members.longmontchamber.org/events/details/beginner-s-jam-with-monica-labonte-05-04-2025-13305
END:VEVENT

END:VCALENDAR
