BEGIN:VCALENDAR
VERSION:2.0
PRODID:-//ChamberMaster//Event Calendar 2.0//EN
METHOD:PUBLISH
X-PUBLISHED-TTL:P3D
REFRESH-INTERVAL:P3D
CALSCALE:GREGORIAN
BEGIN:VEVENT
DTSTART:20230525T220000Z
DTEND:20230525T230000Z
X-MICROSOFT-CDO-ALLDAYEVENT:FALSE
SUMMARY:Beverages with the Bosses
DESCRIPTION:Beverages with the Bosses is an event hosted by the Chamber's 2023 Board Chair\, Kurt Brewer. During the meeting Kurt and Scott Cook\, Chamber CEO\, take member questions and update attendees on Chamber activities. \n\n\n\nJoin us May 25th at Dry Land Distillers!
X-ALT-DESC;FMTTYPE=text/html:<br />\nBeverages with the Bosses is an event hosted by the Chamber&#39\;s 2023 Board Chair\, Kurt Brewer. During the meeting Kurt and Scott Cook\, Chamber CEO\, take member questions and update attendees on Chamber activities.&nbsp\;<br />\n<br />\nJoin us May 25th at Dry Land Distillers!&nbsp\;
LOCATION:Dry Land Distillers 519 Main St Longmont\, CO 80501
UID:e.3083.9684
SEQUENCE:3
DTSTAMP:20260423T033518Z
URL:https://members.longmontchamber.org/events/details/beverages-with-the-bosses-9684
END:VEVENT

END:VCALENDAR
