BEGIN:VCALENDAR
VERSION:2.0
PRODID:-//ChamberMaster//Event Calendar 2.0//EN
METHOD:PUBLISH
X-PUBLISHED-TTL:P3D
REFRESH-INTERVAL:P3D
CALSCALE:GREGORIAN
BEGIN:VEVENT
DTSTART:20230928T220000Z
DTEND:20230928T230000Z
X-MICROSOFT-CDO-ALLDAYEVENT:FALSE
SUMMARY:Beverages with the Bosses
DESCRIPTION:Beverages with the Bosses is an event hosted by the Chamber's 2023 Board Chair\, Kurt Brewer. During the meeting Kurt and Scott Cook\, Chamber CEO\, take member questions and update attendees on Chamber activities. \n\n\n\nJoin us on September 28th at St. Vrain Cidery!
X-ALT-DESC;FMTTYPE=text/html:<br />\nBeverages with the Bosses is an event hosted by the Chamber&#39\;s 2023 Board Chair\, Kurt Brewer. During the meeting Kurt and Scott Cook\, Chamber CEO\, take member questions and update attendees on Chamber activities.&nbsp\;<br />\n<br />\nJoin us on September 28th at St. Vrain Cidery!&nbsp\;
LOCATION:St. Vrain Cidery
UID:e.3083.9955
SEQUENCE:3
DTSTAMP:20260422T214734Z
URL:https://members.longmontchamber.org/events/details/beverages-with-the-bosses-9955
END:VEVENT

END:VCALENDAR
