BEGIN:VCALENDAR
VERSION:2.0
PRODID:-//ChamberMaster//Event Calendar 2.0//EN
METHOD:PUBLISH
X-PUBLISHED-TTL:P3D
REFRESH-INTERVAL:P3D
CALSCALE:GREGORIAN
BEGIN:VEVENT
DTSTART;VALUE=DATE:20250301
DTEND;VALUE=DATE:20250401
TRANSP:TRANSPARENT
X-MICROSOFT-CDO-ALLDAYEVENT:TRUE
SUMMARY:BG Automotive Food Drive
DESCRIPTION:For the month of March BG Automotive will be hosing a Food Drive that will benefit Outreach United Resource Center.  OUR Center provides critical services to those in our community that are in need.  We will be accepting all donations at our Longmont location for the entire month.  We will be accepting any non-perishable food items for this drive.\n\n\n\nItems that are in high demand are:\n\n	Dry Pasta\n	Canned Fruit\n	White and Brown Rice\n	Canned Tomato Paste and Sauce\n	Coffee\n	Feminine Hygiene Products\n	Diapers\n\n To support those that donate BG Automotive will be offering a $10 discount for each item brought in to donate up to a total discount of $50.\n\n\n\nIf you would be so kind please help support your local community by participating in this drive.
X-ALT-DESC;FMTTYPE=text/html:<span style="font-size:18px\;">For the month of March BG Automotive will be hosing a Food Drive that will benefit Outreach United Resource Center.&nbsp\; OUR Center provides critical services to those in our community that are in need.&nbsp\; We will be accepting all donations at our Longmont location for the entire month.&nbsp\; We will be accepting any non-perishable food items for this drive.<br />\n<br />\nItems that are in high demand are:</span>\n<ul>\n	<li><span style="font-size:18px\;">Dry Pasta</span></li>\n	<li><span style="font-size:18px\;">Canned Fruit</span></li>\n	<li><span style="font-size:18px\;">White and Brown Rice</span></li>\n	<li><span style="font-size:18px\;">Canned Tomato Paste and Sauce</span></li>\n	<li><span style="font-size:18px\;">Coffee</span></li>\n	<li><span style="font-size:18px\;">Feminine Hygiene Products</span></li>\n	<li><span style="font-size:18px\;">Diapers</span></li>\n</ul>\n<span style="font-size:18px\;"> To support those that donate BG Automotive will be offering a $10 discount for each item brought in to donate up to a total discount of $50.<br />\n<br />\nIf you would be so kind please help support your local community by participating in this drive.&nbsp\;</span>
LOCATION:BG Automotive Inc
UID:e.3083.10917
SEQUENCE:3
DTSTAMP:20260421T160457Z
URL:https://members.longmontchamber.org/events/details/bg-automotive-food-drive-10917
END:VEVENT

END:VCALENDAR
