BEGIN:VCALENDAR
VERSION:2.0
PRODID:-//ChamberMaster//Event Calendar 2.0//EN
METHOD:PUBLISH
X-PUBLISHED-TTL:P3D
REFRESH-INTERVAL:P3D
CALSCALE:GREGORIAN
BEGIN:VEVENT
DTSTART;VALUE=DATE:20250625
DTEND;VALUE=DATE:20250626
TRANSP:TRANSPARENT
X-MICROSOFT-CDO-ALLDAYEVENT:TRUE
SUMMARY:Bike to Work Day!
DESCRIPTION:Ace your ride on Bike to Work Day! Pledge to ride\, then swap a car trip for a ride on your bike in celebration of this annual event focused on reducing traffic congestion and improving air quality. Hit the trails and bike lanes to find a path that's suited just for you. Whether you travel to the office\, grocery store\, school pickup or a nearby park\, go all in this Bike to Work Day!\n\n\n\nFor more details visit: https://www.drcog.org/bike-to-work-day\n\n\n\nFor more information or questions regarding Bike to Work Day\, please contact Ben Ortiz at ben.ortiz@longmontcolorado.gov or Kalie Fallon at kalie.fallon@longmontcolorado.gov
X-ALT-DESC;FMTTYPE=text/html:<br />\n<span style="font-size:22px\;">Ace your ride on Bike to Work Day! Pledge to ride\, then swap a car trip for a ride on your bike in celebration of this annual event focused on reducing traffic congestion and improving air quality. Hit the trails and bike lanes to find a path that&rsquo\;s suited just for you. Whether you travel to the office\, grocery store\, school pickup or a nearby park\, go all in this Bike to Work Day!<br />\n<br />\nFor more details visit:&nbsp\;<a href="https://www.drcog.org/bike-to-work-day">https://www.drcog.org/bike-to-work-day</a></span><br />\n<br />\n<span style="font-size:22px\;">For more information or questions regarding Bike to Work Day\, please contact Ben Ortiz at <a href="mailto:ben.ortiz@longmontcolorado.gov">ben.ortiz@longmontcolorado.gov</a> or Kalie Fallon at <a href="mailto:kalie.fallon@longmontcolorado.gov">kalie.fallon@longmontcolorado.gov</a></span><br />\n&nbsp\;
LOCATION:
UID:e.3083.13306
SEQUENCE:3
DTSTAMP:20260421T111123Z
URL:https://members.longmontchamber.org/events/details/bike-to-work-day-13306
END:VEVENT

END:VCALENDAR
