BEGIN:VCALENDAR
VERSION:2.0
PRODID:-//ChamberMaster//Event Calendar 2.0//EN
METHOD:PUBLISH
X-PUBLISHED-TTL:P3D
REFRESH-INTERVAL:P3D
CALSCALE:GREGORIAN
BEGIN:VEVENT
DTSTART:20251010T000000Z
DTEND:20251010T020000Z
X-MICROSOFT-CDO-ALLDAYEVENT:FALSE
SUMMARY:Bingo Bongo
DESCRIPTION:Light hearted fun bingo night with Jared every Thursday 6-8pm.\n\nEnjoy some delicious lagers with your winning bingo card!
X-ALT-DESC;FMTTYPE=text/html:<div style="text-align:center"><br />\n<span style="font-size:15px">Light hearted fun bingo night with Jared every Thursday 6-8pm.<br />\nEnjoy some delicious lagers with your winning bingo card!</span></div>\n
LOCATION:Wibby Brewing
UID:e.3083.14478
SEQUENCE:3
DTSTAMP:20260421T051322Z
URL:https://members.longmontchamber.org/events/details/bingo-bongo-10-09-2025-14478
END:VEVENT

END:VCALENDAR
