BEGIN:VCALENDAR
VERSION:2.0
PRODID:-//ChamberMaster//Event Calendar 2.0//EN
METHOD:PUBLISH
X-PUBLISHED-TTL:P3D
REFRESH-INTERVAL:P3D
CALSCALE:GREGORIAN
BEGIN:VEVENT
DTSTART:20270119T150000Z
DTEND:20270120T043000Z
X-MICROSOFT-CDO-ALLDAYEVENT:FALSE
SUMMARY:Board of Directors Meeting
DESCRIPTION:This is our monthly LACC Board of Directors Meeting. Staff and Board members only
X-ALT-DESC;FMTTYPE=text/html:This is our monthly LACC Board of Directors Meeting. Staff and Board members only
LOCATION:LACC 528 Main St. Longmont\, CO 80501
UID:e.3083.6793
SEQUENCE:3
DTSTAMP:20260421T095534Z
URL:https://members.longmontchamber.org/events/details/board-of-directors-meeting-01-19-2027-6793
END:VEVENT

END:VCALENDAR
