BEGIN:VCALENDAR
VERSION:2.0
PRODID:-//ChamberMaster//Event Calendar 2.0//EN
METHOD:PUBLISH
X-PUBLISHED-TTL:P3D
REFRESH-INTERVAL:P3D
CALSCALE:GREGORIAN
BEGIN:VEVENT
DTSTART:20240220T150000Z
DTEND:20240221T043000Z
X-MICROSOFT-CDO-ALLDAYEVENT:FALSE
SUMMARY:Board of Directors Meeting
DESCRIPTION:This is our monthly LACC Board of Directors Meeting. Staff and Board members only
X-ALT-DESC;FMTTYPE=text/html:This is our monthly LACC Board of Directors Meeting. Staff and Board members only
LOCATION:The Times Collaborative 338 Main Street Longmont\, CO 80501
UID:e.3083.6758
SEQUENCE:3
DTSTAMP:20260422T133410Z
URL:https://members.longmontchamber.org/events/details/board-of-directors-meeting-02-20-2024-6758
END:VEVENT

END:VCALENDAR
