BEGIN:VCALENDAR
VERSION:2.0
PRODID:-//ChamberMaster//Event Calendar 2.0//EN
METHOD:PUBLISH
X-PUBLISHED-TTL:P3D
REFRESH-INTERVAL:P3D
CALSCALE:GREGORIAN
BEGIN:VEVENT
DTSTART:20251118T150000Z
DTEND:20251119T043000Z
X-MICROSOFT-CDO-ALLDAYEVENT:FALSE
SUMMARY:Board of Directors Meeting
DESCRIPTION:This is our monthly LACC Board of Directors Meeting. Staff and Board members only
X-ALT-DESC;FMTTYPE=text/html:This is our monthly LACC Board of Directors Meeting. Staff and Board members only
LOCATION:LACC 528 Main St. Longmont\, CO 80501
UID:e.3083.6779
SEQUENCE:3
DTSTAMP:20260421T033611Z
URL:https://members.longmontchamber.org/events/details/board-of-directors-meeting-11-18-2025-6779
END:VEVENT

END:VCALENDAR
