BEGIN:VCALENDAR
VERSION:2.0
PRODID:-//ChamberMaster//Event Calendar 2.0//EN
METHOD:PUBLISH
X-PUBLISHED-TTL:P3D
REFRESH-INTERVAL:P3D
CALSCALE:GREGORIAN
BEGIN:VEVENT
DTSTART:20211221T150000Z
DTEND:20211222T043000Z
X-MICROSOFT-CDO-ALLDAYEVENT:FALSE
SUMMARY:Board of Directors Meeting
DESCRIPTION:This is our monthly LACC Board of Directors Meeting. Staff and Board members only
X-ALT-DESC;FMTTYPE=text/html:This is our monthly LACC Board of Directors Meeting. Staff and Board members only
LOCATION:LACC 528 Main St. Longmont\, CO 80501
UID:e.3083.6732
SEQUENCE:3
DTSTAMP:20260424T062854Z
URL:https://members.longmontchamber.org/events/details/board-of-directors-meeting-12-21-2021-6732
END:VEVENT

END:VCALENDAR
