BEGIN:VCALENDAR
VERSION:2.0
PRODID:-//ChamberMaster//Event Calendar 2.0//EN
METHOD:PUBLISH
X-PUBLISHED-TTL:P3D
REFRESH-INTERVAL:P3D
CALSCALE:GREGORIAN
BEGIN:VEVENT
DTSTART:20250731T220000Z
DTEND:20250801T010000Z
X-MICROSOFT-CDO-ALLDAYEVENT:FALSE
SUMMARY:Boulder Chamber 120th Anniversary Mega Mixer & Disc Golf Throwdown!
DESCRIPTION:Join Us for a Chamber-to-Chamber Celebration!\n\nCelebrating the Boulder Chamber's 120th Anniversary with a Regional Disc Golf Tournament + Mega Mixer\n\nWe are bringing our members together for a day of fun\, friendly competition\, and meaningful connection across Chamber communities. As part of the Boulder Chamber's 120th anniversary celebration\, we're expanding our annual Disc Golf Tournament into a regional event and Mega Mixer!\n\n\n\nNOTE: THIS IS A PAID EVENT & REGISTRATION IS REQUIRED VIA THE BOULDER CHAMBER'S WEBSITE\n\n[Link to Registration] \n\n\n\nDress code: \n\nStep into the Future 120 Years Ahead!\n\nWe're taking the celebration to the year 2144. Come dressed in your best futuristic flair think metallics\, neon\, space-age vibes\, or whatever your vision of the future looks like. Get creative and have fun with it!\n\nWhether you've played disc golf before or not\, this all-abilities-welcome tournament is all about friendly competition\, community\, and good times outdoors. Expect prizes\, giveaways\, and a great vibe.\n\nTicket options:  \n\nOPTION 1: Combo Ticket (Disc Golf + Mega Mixer) - $40\n\nIncludes:\n\n	Entry into one of the two tournament rounds\n	Access to community garden\, pizza\, music\, 1 free drink\n	Chance to connect with members from six different Chambers of Commerce in the area!\n	Branded disc\n	Opportunity to win prizes\n\n\n\nOPTION 2: Mega Mixer Only -  $20\n\nIncludes:\n\n\n	Access to community garden\, pizza\, music\, 1 free drink\n	Chance to connect with members from six different Chambers of Commerce in the area!\n	Raffle entry\n\n\n\nOPTION 3: Team Registration (Combo) -  $140 per team of 4 (saves $5 per player)\n\nIncludes:\n\n\n	All elements from the Combo ticket\, plus a team discount\n\n\n\nAgenda:\n\nDisc Golf: 9 Holes | Best Shot Scramble Format\n\n	\n		\n			\n			\n				4:00\n				4:15 PM\n			\n			\n			\n			\n				Check-in + warm-ups\n				Round 1 Start   First group tees off (9 teams\, shotgun start)\n			\n			\n		\n		\n			\n			\n				5:00 PM\n			\n			\n			\n			\n				Round 1 ends\; teams submit scorecards\n			\n			\n		\n		\n			\n			\n				5:15 PM\n			\n			\n			\n			\n				Round 2 Start   Second group tees off (new 9 teams)\n			\n			\n		\n		\n			\n			\n				6:00 PM\n			\n			\n			\n			\n				Round 2 ends\; scorecards submitted\n			\n			\n		\n		\n			\n			\n				5:00 PM\n			\n			\n			\n			\n				Mega Mixer Starts   Community Garden\, Pizza\, DJ\, Networking\n			\n			\n		\n		\n			\n			\n				6:15 PM\n			\n			\n			\n			\n				Tournament winner(s) announced + prizes\n			\n			\n		\n		\n			\n			\n				7:00 PM\n			\n			\n			\n			\n				Event concludes
X-ALT-DESC;FMTTYPE=text/html:<span style="box-sizing:border-box\;font-weight:bolder\;">Join Us for a Chamber-to-Chamber Celebration!</span><br style="box-sizing:border-box\;" />\n<em style="box-sizing:border-box\;">Celebrating the Boulder Chamber&rsquo\;s 120<span style="box-sizing:border-box\;position:relative\;vertical-align:baseline\;top:-0.5em\;"><span style="font-size:12px\;">th</span></span>&nbsp\;Anniversary with a Regional Disc Golf Tournament + Mega Mixer</em><br />\nWe are bringing our members together for a day of fun\, friendly competition\, and meaningful connection across Chamber communities. As part of the Boulder Chamber&rsquo\;s 120th anniversary celebration\, we&rsquo\;re expanding our annual Disc Golf Tournament into a regional event and Mega Mixer!<br />\n<br />\nNOTE: THIS IS A<strong> PAID EVENT &amp\; REGISTRATION IS REQUIRED</strong> VIA THE BOULDER CHAMBER&#39\;S WEBSITE<br />\n<a href="https://business.boulderchamber.com/events-calendar/Details/anniversary-mega-mixer-and-byp-disc-golf-throwdown-1270383?sourceTypeId=Website">[Link to Registration]&nbsp\;</a><br style="box-sizing:border-box\;" />\n<br />\n<span fr-original-="" style="box-sizing:border-box\;font-weight:700\;"><u style="box-sizing:border-box\;">Dress code:</u>&nbsp\;</span><br style="box-sizing:border-box\;" />\n<span data-end="193" data-start="152" fr-original-="" style="box-sizing:border-box\;font-weight:700\;"><em style="box-sizing:border-box\;">Step into the Future&mdash\;120 Years Ahead!</em></span><br data-end="196" data-start="193" style="box-sizing:border-box\;" />\nWe&rsquo\;re taking the celebration to the year&nbsp\;<em data-end="288" data-start="282" style="box-sizing:border-box\;">2144</em>. Come dressed in your best&nbsp\;<em data-end="334" data-start="316" style="box-sizing:border-box\;">futuristic flair</em>&mdash\;think metallics\, neon\, space-age vibes\, or whatever your vision of the future looks like. Get creative&nbsp\;<em style="box-sizing:border-box\;">and have fun with it!</em><br />\nWhether you&rsquo\;ve played disc golf before or not\, this all-abilities-welcome tournament is all about friendly competition\, community\, and good times outdoors. Expect prizes\, giveaways\, and a great vibe.<br />\n<span data-end="682" data-start="662" fr-original-="" style="box-sizing:border-box\;font-weight:700\;"><u style="box-sizing:border-box\;">Ticket options</u>:</span>&nbsp\;&nbsp\;<br />\n<span fr-original-="" style="box-sizing:border-box\;font-weight:700\;">OPTION 1: Combo Ticket (Disc Golf + Mega Mixer) -</span>&nbsp\;$40<br style="box-sizing:border-box\;" />\n<u style="box-sizing:border-box\;">Includes:</u>\n<ul>\n	<li style="box-sizing:border-box\;">Entry into one of the two tournament rounds</li>\n	<li style="box-sizing:border-box\;">Access to community garden\, pizza\, music\, 1 free drink</li>\n	<li style="box-sizing:border-box\;">Chance to connect with members from six different Chambers of Commerce in the area!</li>\n	<li style="box-sizing:border-box\;">Branded disc</li>\n	<li style="box-sizing:border-box\;">Opportunity to win prizes</li>\n</ul>\n<br style="box-sizing:border-box\;" />\n<span fr-original-="" style="box-sizing:border-box\;font-weight:700\;">OPTION 2: Mega Mixer Only - &nbsp\;</span>$20<br style="box-sizing:border-box\;" />\n<u style="box-sizing:border-box\;">Includes:</u>\n\n<ul>\n	<li style="box-sizing:border-box\;">Access to community garden\, pizza\, music\, 1 free drink</li>\n	<li style="box-sizing:border-box\;">Chance to connect with members from six different Chambers of Commerce in the area!</li>\n	<li style="box-sizing:border-box\;">Raffle entry</li>\n</ul>\n<br style="box-sizing:border-box\;" />\n<span fr-original-="" style="box-sizing:border-box\;font-weight:700\;">OPTION 3: Team Registration (Combo) -&nbsp\;</span>&nbsp\;$140 per team of 4 (saves $5 per player)<br />\n<u style="box-sizing:border-box\;">Includes</u>:\n\n<ul>\n	<li style="box-sizing:border-box\;">All elements from the Combo ticket\, plus a team discount</li>\n</ul>\n<br style="box-sizing:border-box\;" />\n<span fr-original-="" style="box-sizing:border-box\;font-weight:700\;"><u style="box-sizing:border-box\;">Agenda:</u></span><br />\nDisc Golf: 9 Holes | Best Shot Scramble Format\n<table border="0" cellpadding="0" cellspacing="3" fr-original-style="mso-cellspacing:1.5pt\;mso-yfti-tbllook:1184\;" style="border-collapse:collapse\;border-spacing:0px\;color:rgb(109\, 110\, 113)\;font-family:Roboto\, sans-serif\;font-size:16px\;border:0px\;empty-cells:show\;max-width:100%\;">\n	<tbody style="box-sizing:border-box\;">\n		<tr fr-original-style="mso-yfti-irow:0\;mso-yfti-firstrow:yes\;" style="box-sizing:border-box\;user-select:none\;">\n			<td fr-original-style="padding:.75pt .75pt .75pt .75pt\;" style="box-sizing:border-box\;padding:0.75pt\;min-width:5px\;border:1px solid rgb(221\, 221\, 221)\;user-select:text\;">\n			<ul>\n				<li style="box-sizing:border-box\;font-weight:bold\;"><span fr-original-="" style="box-sizing:border-box\;">4:00</span></li>\n				<li style="box-sizing:border-box\;"><span fr-original-="" style="box-sizing:border-box\;font-weight:700\;">4:15 PM</span></li>\n			</ul>\n			</td>\n			<td fr-original-style="padding:.75pt .75pt .75pt .75pt\;" style="box-sizing:border-box\;padding:0.75pt\;min-width:5px\;border:1px solid rgb(221\, 221\, 221)\;user-select:text\;">\n			<ul>\n				<li style="box-sizing:border-box\;">Check-in + warm-ups</li>\n				<li style="box-sizing:border-box\;"><span fr-original-="" style="box-sizing:border-box\;font-weight:700\;">Round 1 Start</span>&nbsp\;&ndash\; First group tees off (9 teams\, shotgun start)</li>\n			</ul>\n			</td>\n		</tr>\n		<tr fr-original-style="mso-yfti-irow:1\;" style="box-sizing:border-box\;user-select:none\;">\n			<td fr-original-style="padding:.75pt .75pt .75pt .75pt\;" style="box-sizing:border-box\;padding:0.75pt\;min-width:5px\;border:1px solid rgb(221\, 221\, 221)\;user-select:text\;">\n			<ul>\n				<li style="box-sizing:border-box\;"><span fr-original-="" style="box-sizing:border-box\;font-weight:700\;">5:00 PM</span></li>\n			</ul>\n			</td>\n			<td fr-original-style="padding:.75pt .75pt .75pt .75pt\;" style="box-sizing:border-box\;padding:0.75pt\;min-width:5px\;border:1px solid rgb(221\, 221\, 221)\;user-select:text\;">\n			<ul>\n				<li style="box-sizing:border-box\;">Round 1 ends\; teams submit scorecards</li>\n			</ul>\n			</td>\n		</tr>\n		<tr fr-original-style="mso-yfti-irow:2\;" style="box-sizing:border-box\;user-select:none\;">\n			<td fr-original-style="padding:.75pt .75pt .75pt .75pt\;" style="box-sizing:border-box\;padding:0.75pt\;min-width:5px\;border:1px solid rgb(221\, 221\, 221)\;user-select:text\;">\n			<ul>\n				<li style="box-sizing:border-box\;"><span fr-original-="" style="box-sizing:border-box\;font-weight:700\;">5:15 PM</span></li>\n			</ul>\n			</td>\n			<td fr-original-style="padding:.75pt .75pt .75pt .75pt\;" style="box-sizing:border-box\;padding:0.75pt\;min-width:5px\;border:1px solid rgb(221\, 221\, 221)\;user-select:text\;">\n			<ul>\n				<li style="box-sizing:border-box\;"><span fr-original-="" style="box-sizing:border-box\;font-weight:700\;">Round 2 Start</span>&nbsp\;&ndash\; Second group tees off (new 9 teams)</li>\n			</ul>\n			</td>\n		</tr>\n		<tr fr-original-style="mso-yfti-irow:3\;" style="box-sizing:border-box\;user-select:none\;">\n			<td fr-original-style="padding:.75pt .75pt .75pt .75pt\;" style="box-sizing:border-box\;padding:0.75pt\;min-width:5px\;border:1px solid rgb(221\, 221\, 221)\;user-select:text\;">\n			<ul>\n				<li style="box-sizing:border-box\;"><span fr-original-="" style="box-sizing:border-box\;font-weight:700\;">6:00 PM</span></li>\n			</ul>\n			</td>\n			<td fr-original-style="padding:.75pt .75pt .75pt .75pt\;" style="box-sizing:border-box\;padding:0.75pt\;min-width:5px\;border:1px solid rgb(221\, 221\, 221)\;user-select:text\;">\n			<ul>\n				<li style="box-sizing:border-box\;">Round 2 ends\; scorecards submitted</li>\n			</ul>\n			</td>\n		</tr>\n		<tr fr-original-style="mso-yfti-irow:4\;" style="box-sizing:border-box\;user-select:none\;">\n			<td fr-original-style="padding:.75pt .75pt .75pt .75pt\;" style="box-sizing:border-box\;padding:0.75pt\;min-width:5px\;border:1px solid rgb(221\, 221\, 221)\;user-select:text\;">\n			<ul>\n				<li style="box-sizing:border-box\;"><span fr-original-="" style="box-sizing:border-box\;font-weight:700\;">5:00 PM</span></li>\n			</ul>\n			</td>\n			<td fr-original-style="padding:.75pt .75pt .75pt .75pt\;" style="box-sizing:border-box\;padding:0.75pt\;min-width:5px\;border:1px solid rgb(221\, 221\, 221)\;user-select:text\;">\n			<ul>\n				<li style="box-sizing:border-box\;"><span fr-original-="" style="box-sizing:border-box\;font-weight:700\;">Mega Mixer Starts</span>&nbsp\;&ndash\; Community Garden\, Pizza\, DJ\, Networking</li>\n			</ul>\n			</td>\n		</tr>\n		<tr fr-original-style="mso-yfti-irow:5\;" style="box-sizing:border-box\;user-select:none\;">\n			<td fr-original-style="padding:.75pt .75pt .75pt .75pt\;" style="box-sizing:border-box\;padding:0.75pt\;min-width:5px\;border:1px solid rgb(221\, 221\, 221)\;user-select:text\;">\n			<ul>\n				<li style="box-sizing:border-box\;"><span fr-original-="" style="box-sizing:border-box\;font-weight:700\;">6:15 PM</span></li>\n			</ul>\n			</td>\n			<td fr-original-style="padding:.75pt .75pt .75pt .75pt\;" style="box-sizing:border-box\;padding:0.75pt\;min-width:5px\;border:1px solid rgb(221\, 221\, 221)\;user-select:text\;">\n			<ul>\n				<li style="box-sizing:border-box\;">Tournament winner(s) announced + prizes</li>\n			</ul>\n			</td>\n		</tr>\n		<tr fr-original-style="mso-yfti-irow:6\;mso-yfti-lastrow:yes\;" style="box-sizing:border-box\;user-select:none\;">\n			<td fr-original-style="padding:.75pt .75pt .75pt .75pt\;" style="box-sizing:border-box\;padding:0.75pt\;min-width:5px\;border:1px solid rgb(221\, 221\, 221)\;user-select:text\;">\n			<ul>\n				<li style="box-sizing:border-box\;"><span fr-original-="" style="box-sizing:border-box\;font-weight:700\;">7:00 PM</span></li>\n			</ul>\n			</td>\n			<td fr-original-style="padding:.75pt .75pt .75pt .75pt\;" style="box-sizing:border-box\;padding:0.75pt\;min-width:5px\;border:1px solid rgb(221\, 221\, 221)\;user-select:text\;">\n			<ul>\n				<li style="box-sizing:border-box\;">Event concludes</li>\n			</ul>\n			</td>\n		</tr>\n	</tbody>\n</table>\n
LOCATION:Harlow Plattes Community park\, Boulder
UID:e.3083.13530
SEQUENCE:3
DTSTAMP:20260421T093817Z
URL:https://members.longmontchamber.org/events/details/boulder-chamber-120th-anniversary-mega-mixer-disc-golf-throwdown-13530
END:VEVENT

END:VCALENDAR
