BEGIN:VCALENDAR
VERSION:2.0
PRODID:-//ChamberMaster//Event Calendar 2.0//EN
METHOD:PUBLISH
X-PUBLISHED-TTL:P3D
REFRESH-INTERVAL:P3D
CALSCALE:GREGORIAN
BEGIN:VEVENT
DTSTART:20250806T230000Z
DTEND:20250807T040000Z
X-MICROSOFT-CDO-ALLDAYEVENT:FALSE
SUMMARY:Boulder County Fair - VIP Kickoff Party!
DESCRIPTION:Join the neighborhood as we celebrate the opening night of the 156th annual Boulder County Fair!\n\n\n\nWednesday night kicks off 5 nights of free live music in our elevated Fair Garden\, sponsored by Stapp Toyota.\n\n\n\nOver the week\, we'll have over 20 local\, regional\, and National touring Artists hitting the stage\, all for free.\n\n\n\nOur Fair Garden will feature 10 of Colorado's best local food trucks\, Axe Throwing (thanks Axe Me Out!)\, a Mechanical Bull\, and affordable drinks. If that's not even thrills for you\, you can always enjoy the carnival\, or any of our Grandstands events throughout the week\; including CPRA Rodeo (we won Best New Rodeo last year!)\, Tractor Pull\, Demolition Derby (sells out every year\, get your tickets early!)\, and a Mexican Rodeo Fiesta!\n\n\n\nOur Fair Garden is all-ages\, so don't be afraid to bring the whole family!
X-ALT-DESC;FMTTYPE=text/html:<br />\n<span style="font-size:22px\;">Join the neighborhood as we celebrate the opening night of the 156th annual Boulder County Fair!<br />\n<br />\nWednesday night kicks off 5 nights of free live music in our elevated Fair Garden\, sponsored by Stapp Toyota.<br />\n<br />\nOver the week\, we&#39\;ll have over 20 local\, regional\, and National touring Artists hitting the stage\, all for free.<br />\n<br />\nOur Fair Garden will feature 10 of Colorado&#39\;s best local food trucks\, Axe Throwing (thanks Axe Me Out!)\, a Mechanical Bull\, and affordable drinks. If that&#39\;s not even thrills for you\, you can always enjoy the carnival\, or any of our Grandstands events throughout the week\; including CPRA Rodeo (we won Best New Rodeo last year!)\, Tractor Pull\, Demolition Derby (sells out every year\, get your tickets early!)\, and a Mexican Rodeo Fiesta!<br />\n<br />\nOur Fair Garden is all-ages\, so don&#39\;t be afraid to bring the whole family!</span>
LOCATION:Boulder County Fairgrounds
UID:e.3083.13564
SEQUENCE:3
DTSTAMP:20260421T093827Z
URL:https://members.longmontchamber.org/events/details/boulder-county-fair-vip-kickoff-party-13564
END:VEVENT

END:VCALENDAR
