BEGIN:VCALENDAR
VERSION:2.0
PRODID:-//ChamberMaster//Event Calendar 2.0//EN
METHOD:PUBLISH
X-PUBLISHED-TTL:P3D
REFRESH-INTERVAL:P3D
CALSCALE:GREGORIAN
BEGIN:VEVENT
DTSTART:20240921T150000Z
DTEND:20240921T180000Z
X-MICROSOFT-CDO-ALLDAYEVENT:FALSE
SUMMARY:Boulder County Senior Law Day
DESCRIPTION:Senior Law Day helps Boulder County older adults and their family members and caregivers make informed\, positive decisions about legal\, health\, and lifestyle matters through expert presentations\, one-on-one attorney consultations\, and interaction with subject matter experts.\n\n\n\nThis is a FREE event.  Pre-registration is appreciated!\n\n\n\nSaturday\, September 21\, 2024\n\n9:00 am - 12:00 pm (Doors open at 8:15)\n\n\n\nLongmont Senior Center\n\n910 Longs Peak Ave.\n\nLongmont\, CO 80501\n\n\n\nSponsorship Opportunities are available.  Email sponsorship@bocoseniorlawday.org for more information.
X-ALT-DESC;FMTTYPE=text/html:Senior Law Day helps Boulder County older adults and their family members and caregivers make informed\, positive decisions about legal\, health\, and lifestyle matters through&nbsp\;<strong>expert presentations</strong>\,&nbsp\;<strong>one-on-one attorney consultations</strong>\, and&nbsp\;<strong>interaction with subject matter experts</strong>.<br />\n<br />\nThis is a FREE event.&nbsp\; Pre-registration is appreciated!<br />\n<br />\n<strong>Saturday\, September 21\, 2024</strong><br />\n9:00 am - 12:00 pm (Doors open at 8:15)<br />\n<br />\n<strong>Longmont Senior Center</strong><br />\n910 Longs Peak Ave.<br />\nLongmont\, CO 80501<br />\n<br />\n<strong>Sponsorship Opportunities are available.&nbsp\;&nbsp\;</strong>Email&nbsp\;<strong><span style="color:rgb(34\, 34\, 34)\; font-family:google sans\,roboto\,robotodraft\,helvetica\,arial\,sans-serif\; font-size:14px">sponsorship@bocoseniorlawday.org</span></strong><span style="color:rgb(34\, 34\, 34)\; font-family:google sans\,roboto\,robotodraft\,helvetica\,arial\,sans-serif\; font-size:14px">&nbsp\;for more information.</span>
LOCATION:Longmont Senior Center 910 Longs Peak Ave. Longmont\, CO 80501
UID:e.3083.10168
SEQUENCE:3
DTSTAMP:20260422T013536Z
URL:https://members.longmontchamber.org/events/details/boulder-county-senior-law-day-10168
END:VEVENT

END:VCALENDAR
