BEGIN:VCALENDAR
VERSION:2.0
PRODID:-//ChamberMaster//Event Calendar 2.0//EN
METHOD:PUBLISH
X-PUBLISHED-TTL:P3D
REFRESH-INTERVAL:P3D
CALSCALE:GREGORIAN
BEGIN:VEVENT
DTSTART:20250419T213000Z
DTEND:20250419T215500Z
X-MICROSOFT-CDO-ALLDAYEVENT:FALSE
SUMMARY:Brain Training Lounge proudly presents 'Neurofeedback for Mind-Body Wellness'
DESCRIPTION:Brain Training Lounge is proud to present Neurofeedback for Mind-Body Wellness at the Embody Wellness Expo sponsored by Saturn's Daughter Apothecary & Downtown Longmont on April 19\, 2025.  Reserve your spot soon!\n\n \n\nBTL's information gathering lecture will discuss current community stress survey results\, provide a simple stress assessment tool for your own self-check-in\, introduce you to neurofeedback\, and acquaint you with NeurOptimal  - a trusted & uniquely effective brain optimization tool for everyone's use. \n\n \n\nThis full-day Expo will be held at the beautiful The St. Vrain event & wedding venue in Longmont\, Colorado.  This is a special opportunity for our community to gather and share resources\, support\, and knowledge on all things health & wellness.
X-ALT-DESC;FMTTYPE=text/html:<div><span style="font-size:22px\;"><span dir="auto"><strong>Brain Training Lounge is proud to present <em>Neurofeedback for Mind-Body Wellness</em> at the Embody Wellness Expo sponsored by Saturn&#39\;s Daughter Apothecary &amp\; Downtown Longmont on April 19\, 2025.&nbsp\;&nbsp\;</strong>Reserve your spot soon!</span></span><br />\n&nbsp\;</div>\n\n<div><span style="font-size:22px\;"><span dir="auto">BTL&#39\;s information gathering lecture will discuss current community stress survey results\, provide a simple stress assessment tool for your own self-check-in\, introduce you to neurofeedback\, and acquaint you with NeurOptimal&reg\; - a trusted &amp\; uniquely effective brain optimization tool for everyone&#39\;s use. </span></span><br />\n&nbsp\;</div>\n\n<div><span style="font-size:22px\;"><span dir="auto">This full-day Expo will be held at the beautiful The St. Vrain event &amp\; wedding venue in Longmont\, Colorado.&nbsp\; This is a special opportunity for our community to gather and share resources\, support\, and knowledge on all things health &amp\; wellness.</span></span></div>\n
LOCATION:The St. Vrain
UID:e.3083.13022
SEQUENCE:3
DTSTAMP:20260421T143159Z
URL:https://members.longmontchamber.org/events/details/brain-training-lounge-proudly-presents-neurofeedback-for-mind-body-wellness-13022
END:VEVENT

END:VCALENDAR
