BEGIN:VCALENDAR
VERSION:2.0
PRODID:-//ChamberMaster//Event Calendar 2.0//EN
METHOD:PUBLISH
X-PUBLISHED-TTL:P3D
REFRESH-INTERVAL:P3D
CALSCALE:GREGORIAN
BEGIN:VEVENT
DTSTART:20230117T153000Z
DTEND:20230117T163000Z
X-MICROSOFT-CDO-ALLDAYEVENT:FALSE
SUMMARY:Brewing Up Business\, Networking Group
DESCRIPTION:Brewing Up Business is a Networking Group for the Longmont Chamber and is formatted as a Leads Group. If you are interested in joining an enthusiastic group of professionals who are committed to growing their own business and helping others to do the same\, this might be a good fit for you! Want to learn more? Would you like to give the group a try? Call facilitator Wade Whiteley with First American Insurance at 303-886-1916.\n\nOne representative from each industry may attend a Networking Group.
X-ALT-DESC;FMTTYPE=text/html:<p>Brewing Up Business is a Networking Group for the Longmont Chamber and is formatted as a Leads Group.&nbsp\;If you are interested in joining an enthusiastic group of professionals who are committed to growing their own business and helping others to do the same\, this might be a good fit for you! Want to learn more?&nbsp\;Would you like to give the group a try? Call facilitator Wade Whiteley with First American Insurance at 303-886-1916.</p>\n\n<p>One representative from each industry may attend a Networking Group.</p>\n
LOCATION:Please contact facilitator for location.
UID:e.3083.6035
SEQUENCE:3
DTSTAMP:20260423T113436Z
URL:https://members.longmontchamber.org/events/details/brewing-up-business-01-17-2023-6035
END:VEVENT

END:VCALENDAR
