BEGIN:VCALENDAR
VERSION:2.0
PRODID:-//ChamberMaster//Event Calendar 2.0//EN
METHOD:PUBLISH
X-PUBLISHED-TTL:P3D
REFRESH-INTERVAL:P3D
CALSCALE:GREGORIAN
BEGIN:VEVENT
DTSTART:20231107T153000Z
DTEND:20231107T163000Z
X-MICROSOFT-CDO-ALLDAYEVENT:FALSE
SUMMARY:Brewing Up Business\, Networking Group
DESCRIPTION:Brewing Up Business is a Networking Group for the Longmont Chamber and is formatted as a Leads Group. If you are interested in joining an enthusiastic group of professionals who are committed to growing their own business and helping others to do the same\, this might be a good fit for you! Want to learn more? Would you like to give the group a try? Call facilitator David Holt with Beagle Home Inspections at 303-731-6891.\n\nOne representative from each industry may attend a Networking Group.\n\nPlease contact the group facilitator before joining the group.
X-ALT-DESC;FMTTYPE=text/html:<p style="font-weight:400\; line-height: 1.7em\;">Brewing Up Business is a Networking Group for the Longmont Chamber and is formatted as a Leads Group.&nbsp\;If you are interested in joining an enthusiastic group of professionals who are committed to growing their own business and helping others to do the same\, this might be a good fit for you! Want to learn more?&nbsp\;Would you like to give the group a try? Call facilitator David Holt with Beagle Home Inspections&nbsp\;at 303-731-6891.</p>\n\n<p style="font-weight:400\; line-height: 1.7em\;">One representative from each industry may attend a Networking Group.</p>\n\n<p style="font-weight:400\; line-height: 1.7em\;">Please contact the group facilitator&nbsp\;before joining the group.</p>\n
LOCATION:Please contact facilitator for location.
UID:e.3083.6169
SEQUENCE:3
DTSTAMP:20260422T183130Z
URL:https://members.longmontchamber.org/events/details/brewing-up-business-cosolve-11-07-2023-6169
END:VEVENT

END:VCALENDAR
