BEGIN:VCALENDAR
VERSION:2.0
PRODID:-//ChamberMaster//Event Calendar 2.0//EN
METHOD:PUBLISH
X-PUBLISHED-TTL:P3D
REFRESH-INTERVAL:P3D
CALSCALE:GREGORIAN
BEGIN:VEVENT
DTSTART:20210302T153000Z
DTEND:20210302T153000Z
X-MICROSOFT-CDO-ALLDAYEVENT:FALSE
SUMMARY:Brewing Up Business\, Networking Group
DESCRIPTION:Brewing Up Business meet every 1st and 3rd Tuesday.\n\nIf you are interested in joining an enthusiastic group of professionals who are committed to growing their own business and helping others to do the same\, this might be a good fit for you! Want to learn more? Would you like to give the group a try? Call group facilitator: Wade Whiteley with First American Insurance at 303-886-1916\n\nOne representative from each industry may attend a Networking Group.\n\nPlease contact the group facilitator before joining the group.
X-ALT-DESC;FMTTYPE=text/html:<p>Brewing Up Business meet every 1st and 3rd Tuesday.</p>\n\n<p>If you are interested in joining an enthusiastic group of professionals who are committed to growing their own business and helping others to do the same\, this might be a good fit for you! Want to learn more?&nbsp\;Would you like to give the group a try? Call group facilitator:&nbsp\;Wade Whiteley with First American Insurance at 303-886-1916</p>\n\n<p>One representative from each industry may attend a Networking Group.</p>\n\n<p>Please contact the group facilitator&nbsp\;before joining the group.</p>\n
LOCATION:Currently meeting virtually
UID:e.3083.6137
SEQUENCE:3
DTSTAMP:20260424T215628Z
URL:https://members.longmontchamber.org/events/details/brewing-up-business-networking-group-6137
END:VEVENT

END:VCALENDAR
