BEGIN:VCALENDAR
VERSION:2.0
PRODID:-//ChamberMaster//Event Calendar 2.0//EN
METHOD:PUBLISH
X-PUBLISHED-TTL:P3D
REFRESH-INTERVAL:P3D
CALSCALE:GREGORIAN
BEGIN:VEVENT
DTSTART:20251116T200000Z
DTEND:20251116T213000Z
X-MICROSOFT-CDO-ALLDAYEVENT:FALSE
SUMMARY:Broncos Tailgate Pre-Party Pairing
DESCRIPTION:Celebrate football season and the Broncos with a tailgate party\, including live music by Jordan Bass\, pizza\, and (of course) beer! The special is $15 but the event itself is free. We'll be showing the Broncos games in the taproom\, so bring your family\, friends\, and pets!
X-ALT-DESC;FMTTYPE=text/html:Celebrate football season and the Broncos with a tailgate party\, including live music by Jordan Bass\, pizza\, and (of course) beer! The special is $15 but the event itself is free. We&#39\;ll be showing the Broncos games in the taproom\, so bring your family\, friends\, and pets!
LOCATION:Wibby Brewing
UID:e.3083.14621
SEQUENCE:3
DTSTAMP:20260421T033342Z
URL:https://members.longmontchamber.org/events/details/broncos-tailgate-pre-party-pairing-11-16-2025-14621
END:VEVENT

END:VCALENDAR
