BEGIN:VCALENDAR
VERSION:2.0
PRODID:-//ChamberMaster//Event Calendar 2.0//EN
METHOD:PUBLISH
X-PUBLISHED-TTL:P3D
REFRESH-INTERVAL:P3D
CALSCALE:GREGORIAN
BEGIN:VEVENT
DTSTART:20220505T210000Z
DTEND:20220505T220000Z
X-MICROSOFT-CDO-ALLDAYEVENT:FALSE
SUMMARY:Building Energy Benchmarking - Longmont Power & Communications
DESCRIPTION:Everyone wants to save energy but first you have to know what you are using! Join us as Longmont Power & Communications explains building energy benchmarking\, a method that lets businesses see how their energy use measures up against similar building types in similar climates. This online session begins at 3pm May 5\, 2022. You will receive Zoom information upon registration. \n\nCommunities across the country have learned the power of benchmarking their large commercial buildings   shouldn't you?
X-ALT-DESC;FMTTYPE=text/html:<p><span style="color: rgb(0\, 0\, 0)\; font-family: &quot\;Times New Roman&quot\;\; font-size: medium\;">Everyone wants to save energy but first you have to know what you are using! Join us as Longmont Power &amp\; Communications explains building energy benchmarking\, a method that lets businesses see how their energy use measures up against similar building types in similar climates. This online session begins at 3pm May 5\, 2022. You will receive Zoom information upon registration. </span></p>\n\n<p><span style="color: rgb(0\, 0\, 0)\; font-family: &quot\;Times New Roman&quot\;\; font-size: medium\;">Communities across the country have learned the power of benchmarking their large commercial buildings &hellip\; shouldn&rsquo\;t you?</span></p>\n
LOCATION:https://us02web.zoom.us/j/82115030004?pwd=TGFPMmpGc0hBSDZhVjU0Tm53Qi9hZz09
UID:e.3083.8684
SEQUENCE:3
DTSTAMP:20260423T223751Z
URL:https://members.longmontchamber.org/events/details/building-energy-benchmarking-longmont-power-communications-8684
END:VEVENT

END:VCALENDAR
