BEGIN:VCALENDAR
VERSION:2.0
PRODID:-//ChamberMaster//Event Calendar 2.0//EN
METHOD:PUBLISH
X-PUBLISHED-TTL:P3D
REFRESH-INTERVAL:P3D
CALSCALE:GREGORIAN
BEGIN:VEVENT
DTSTART:20210909T230000Z
DTEND:20210910T010000Z
X-MICROSOFT-CDO-ALLDAYEVENT:FALSE
SUMMARY:Business After Hours
DESCRIPTION:Business After Hours is a monthly networking opportunity for Chamber Members and potential Chamber Members. Meet other local movers and shakers while enjoying local food and beverage.  \n\n\n\nAbout High Country Bank: We are one of the newer bank offices in Longmont but have been serving the Upper Arkansas Valley dating back to 1886. We take pride in the fact that as a company we make more home loans (mortgages)\, home equity loans\, and business loans than anyone else in our area. We also bring a whole new meaning to "customer service" by always putting our customers' need first and doing everything we can to help them achieve their financial goals.\n\n\n\nPer the Boulder County Health Order issued September 3rd\, we are requiring that all individuals wear a mask while inside at this event. As the event is held primarily outside\, we are not requiring masks be worn at all times but strongly encourage individuals to wear them if they are unable to maintain a 6' social distance from other guests.
X-ALT-DESC;FMTTYPE=text/html:Business After Hours is a monthly networking opportunity for Chamber Members and potential Chamber Members. Meet other local movers and shakers while enjoying local food and beverage.&nbsp\;&nbsp\;<br />\n<br />\n<strong>About High Country Bank: </strong>We are one of the newer bank offices in Longmont but have been serving the Upper Arkansas Valley dating back to 1886. We take pride in the fact that as a company we make more home loans (mortgages)\, home equity loans\, and business loans than anyone else in our area. We also bring a whole new meaning to &ldquo\;customer service&rdquo\; by always putting our customers&#39\; need first and doing everything we can to help them achieve their financial goals.<br />\n<br />\n<strong>Per the Boulder County Health Order issued September 3rd\, we are requiring that all individuals wear a mask while inside at this event. As the event is held primarily outside\, we are not requiring masks be worn at all times but strongly encourage individuals to wear them if they are unable to maintain a 6&#39\; social distance from other guests.</strong>
LOCATION:Wibby Brewing 209 Emery St\, Longmont\, CO 80501 Event host hosted by High Country Bank at Wibby Brewing.
UID:e.3083.8475
SEQUENCE:3
DTSTAMP:20260424T122802Z
URL:https://members.longmontchamber.org/events/details/business-after-hours-8475
END:VEVENT

END:VCALENDAR
