BEGIN:VCALENDAR
VERSION:2.0
PRODID:-//ChamberMaster//Event Calendar 2.0//EN
METHOD:PUBLISH
X-PUBLISHED-TTL:P3D
REFRESH-INTERVAL:P3D
CALSCALE:GREGORIAN
BEGIN:VEVENT
DTSTART:20250131T000000Z
DTEND:20250131T020000Z
X-MICROSOFT-CDO-ALLDAYEVENT:FALSE
SUMMARY:Business After Hours at Adams Bank & Trust
DESCRIPTION:Get Ready to Boogie at Business After Hours!\n\nThis month\, we're bringing the groove to Business After Hours with a disco theme! Dust off your bell bottoms\, break out the sequins\, and throw on your favorite 70s-inspired outfits think vibrant jumpsuits\, funky patterns\, or even platform shoes! Whether you channel Saturday Night Fever or your best Studio 54 vibes\, we can't wait to see your creative looks.\n\nBusiness After Hours is a monthly networking event for Chamber Members and potential members. Meet other local movers and shakers while enjoying great local food and beverages.\n\nHeld at a different location each month\, Business After Hours gives members the chance to experience a variety of businesses throughout the year. Each event boasts 100 150 attendees\, making it the perfect opportunity to connect\, collaborate\, and expand your network.\n\n\nAbout Adams Bank &Trust\n\nOur story began in 1916 when G.D. Adams founded Lemoyne State Bank in Lemoyne\, Nebraska. In 1934\, the construction of Lake McConaughy and Kingsley Dam caused the town of Lemoyne to relocate. G.D. moved the bank to Brule. The foundation of Lemoyne State Bank remains under the waters of Lake McConaughy.\n\n \n\nBetween 1962 and 1972\, Melvin Sr.\, and Mel (Melvin Jr.) opened four more banks in Imperial\, Sutherland\, Madrid\, and Ogallala. In 1986\, revised banking laws permitted the five banks to merge under one name\, Adams Bank & Trust\, and made its headquarters in Ogallala\, Nebraska.\n\n \n\nToday\, Todd and Chad Adams (sons of Mel) serve as Adams Bank & Trust CEO and ADBANC\, Inc. President (holding company of AB&T)\, respectively. Under their leadership\, Adams Bank & Trust has grown to over $1 billion in assets and more than 20 branches in Nebraska\, Colorado\, and Kansas.
X-ALT-DESC;FMTTYPE=text/html:<p><span style="font-size:14px\;"><span style="font-family:verdana\;"><strong>Get Ready to Boogie at Business After Hours!</strong></span></span></p>\n\n<p><span style="font-size:14px\;"><span style="font-family:verdana\;">This month\, we&rsquo\;re bringing the groove to Business After Hours with a <strong>disco theme</strong>! Dust off your bell bottoms\, break out the sequins\, and throw on your favorite 70s-inspired outfits&mdash\;think vibrant jumpsuits\, funky patterns\, or even platform shoes! Whether you channel Saturday Night Fever or your best Studio 54 vibes\, we can&rsquo\;t wait to see your creative looks.</span></span></p>\n\n<p><span style="font-size:14px\;"><span style="font-family:verdana\;"><strong>Business After Hours</strong> is a monthly networking event for Chamber Members and potential members. Meet other local movers and shakers while enjoying great local food and beverages.</span></span></p>\n\n<p><span style="font-size:14px\;"><span style="font-family:verdana\;">Held at a different location each month\, Business After Hours gives members the chance to experience a variety of businesses throughout the year. Each event boasts 100&ndash\;150 attendees\, making it the perfect opportunity to connect\, collaborate\, and expand your network.</span></span></p>\n<br />\n<span style="font-size:14px\;"><span style="font-family:verdana\;"><strong>About Adams Bank &amp\;Trust</strong></span></span>\n\n<p style="box-sizing: border-box\; border: 0px solid\; --tw-border-spacing-x: 0\; --tw-border-spacing-y: 0\; --tw-translate-x: 0\; --tw-translate-y: 0\; --tw-rotate: 0\; --tw-skew-x: 0\; --tw-skew-y: 0\; --tw-scale-x: 1\; --tw-scale-y: 1\; --tw-pan-x: \; --tw-pan-y: \; --tw-pinch-zoom: \; --tw-scroll-snap-strictness: proximity\; --tw-gradient-from-position: \; --tw-gradient-via-position: \; --tw-gradient-to-position: \; --tw-ordinal: \; --tw-slashed-zero: \; --tw-numeric-figure: \; --tw-numeric-spacing: \; --tw-numeric-fraction: \; --tw-ring-inset: \; --tw-ring-offset-width: 0px\; --tw-ring-offset-color: #fff\; --tw-ring-color: rgba(59\,130\,246\,.5)\; --tw-ring-offset-shadow: 0 0 #0000\; --tw-ring-shadow: 0 0 #0000\; --tw-shadow: 0 0 #0000\; --tw-shadow-colored: 0 0 #0000\; --tw-blur: \; --tw-brightness: \; --tw-contrast: \; --tw-grayscale: \; --tw-hue-rotate: \; --tw-invert: \; --tw-saturate: \; --tw-sepia: \; --tw-drop-shadow: \; --tw-backdrop-blur: \; --tw-backdrop-brightness: \; --tw-backdrop-contrast: \; --tw-backdrop-grayscale: \; --tw-backdrop-hue-rotate: \; --tw-backdrop-invert: \; --tw-backdrop-opacity: \; --tw-backdrop-saturate: \; --tw-backdrop-sepia: \; margin: 0px\; color: rgb(0\, 0\, 0)\; font-family: __Montserrat_4bc053\, __Montserrat_Fallback_4bc053\; font-size: medium\;"><span style="font-size:14px\;"><span style="font-family:verdana\;">Our story began in 1916 when G.D. Adams founded Lemoyne State Bank in Lemoyne\, Nebraska. In 1934\, the construction of Lake McConaughy and Kingsley Dam caused the town of Lemoyne to relocate. G.D. moved the bank to Brule. The foundation of Lemoyne State Bank remains under the waters of Lake McConaughy.</span></span><br style="box-sizing: border-box\; border: 0px solid\; --tw-border-spacing-x: 0\; --tw-border-spacing-y: 0\; --tw-translate-x: 0\; --tw-translate-y: 0\; --tw-rotate: 0\; --tw-skew-x: 0\; --tw-skew-y: 0\; --tw-scale-x: 1\; --tw-scale-y: 1\; --tw-pan-x: \; --tw-pan-y: \; --tw-pinch-zoom: \; --tw-scroll-snap-strictness: proximity\; --tw-gradient-from-position: \; --tw-gradient-via-position: \; --tw-gradient-to-position: \; --tw-ordinal: \; --tw-slashed-zero: \; --tw-numeric-figure: \; --tw-numeric-spacing: \; --tw-numeric-fraction: \; --tw-ring-inset: \; --tw-ring-offset-width: 0px\; --tw-ring-offset-color: #fff\; --tw-ring-color: rgba(59\,130\,246\,.5)\; --tw-ring-offset-shadow: 0 0 #0000\; --tw-ring-shadow: 0 0 #0000\; --tw-shadow: 0 0 #0000\; --tw-shadow-colored: 0 0 #0000\; --tw-blur: \; --tw-brightness: \; --tw-contrast: \; --tw-grayscale: \; --tw-hue-rotate: \; --tw-invert: \; --tw-saturate: \; --tw-sepia: \; --tw-drop-shadow: \; --tw-backdrop-blur: \; --tw-backdrop-brightness: \; --tw-backdrop-contrast: \; --tw-backdrop-grayscale: \; --tw-backdrop-hue-rotate: \; --tw-backdrop-invert: \; --tw-backdrop-opacity: \; --tw-backdrop-saturate: \; --tw-backdrop-sepia: \;" />\n&nbsp\;</p>\n\n<p style="box-sizing: border-box\; border: 0px solid\; --tw-border-spacing-x: 0\; --tw-border-spacing-y: 0\; --tw-translate-x: 0\; --tw-translate-y: 0\; --tw-rotate: 0\; --tw-skew-x: 0\; --tw-skew-y: 0\; --tw-scale-x: 1\; --tw-scale-y: 1\; --tw-pan-x: \; --tw-pan-y: \; --tw-pinch-zoom: \; --tw-scroll-snap-strictness: proximity\; --tw-gradient-from-position: \; --tw-gradient-via-position: \; --tw-gradient-to-position: \; --tw-ordinal: \; --tw-slashed-zero: \; --tw-numeric-figure: \; --tw-numeric-spacing: \; --tw-numeric-fraction: \; --tw-ring-inset: \; --tw-ring-offset-width: 0px\; --tw-ring-offset-color: #fff\; --tw-ring-color: rgba(59\,130\,246\,.5)\; --tw-ring-offset-shadow: 0 0 #0000\; --tw-ring-shadow: 0 0 #0000\; --tw-shadow: 0 0 #0000\; --tw-shadow-colored: 0 0 #0000\; --tw-blur: \; --tw-brightness: \; --tw-contrast: \; --tw-grayscale: \; --tw-hue-rotate: \; --tw-invert: \; --tw-saturate: \; --tw-sepia: \; --tw-drop-shadow: \; --tw-backdrop-blur: \; --tw-backdrop-brightness: \; --tw-backdrop-contrast: \; --tw-backdrop-grayscale: \; --tw-backdrop-hue-rotate: \; --tw-backdrop-invert: \; --tw-backdrop-opacity: \; --tw-backdrop-saturate: \; --tw-backdrop-sepia: \; margin: 0px\; color: rgb(0\, 0\, 0)\; font-family: __Montserrat_4bc053\, __Montserrat_Fallback_4bc053\; font-size: medium\;"><span style="font-size:14px\;"><span style="font-family:verdana\;">Between 1962 and 1972\, Melvin Sr.\, and Mel (Melvin Jr.) opened four more banks in Imperial\, Sutherland\, Madrid\, and Ogallala. In 1986\, revised banking laws permitted the five banks to merge under one name\, Adams Bank &amp\; Trust\, and made its headquarters in Ogallala\, Nebraska.</span></span><br style="box-sizing: border-box\; border: 0px solid\; --tw-border-spacing-x: 0\; --tw-border-spacing-y: 0\; --tw-translate-x: 0\; --tw-translate-y: 0\; --tw-rotate: 0\; --tw-skew-x: 0\; --tw-skew-y: 0\; --tw-scale-x: 1\; --tw-scale-y: 1\; --tw-pan-x: \; --tw-pan-y: \; --tw-pinch-zoom: \; --tw-scroll-snap-strictness: proximity\; --tw-gradient-from-position: \; --tw-gradient-via-position: \; --tw-gradient-to-position: \; --tw-ordinal: \; --tw-slashed-zero: \; --tw-numeric-figure: \; --tw-numeric-spacing: \; --tw-numeric-fraction: \; --tw-ring-inset: \; --tw-ring-offset-width: 0px\; --tw-ring-offset-color: #fff\; --tw-ring-color: rgba(59\,130\,246\,.5)\; --tw-ring-offset-shadow: 0 0 #0000\; --tw-ring-shadow: 0 0 #0000\; --tw-shadow: 0 0 #0000\; --tw-shadow-colored: 0 0 #0000\; --tw-blur: \; --tw-brightness: \; --tw-contrast: \; --tw-grayscale: \; --tw-hue-rotate: \; --tw-invert: \; --tw-saturate: \; --tw-sepia: \; --tw-drop-shadow: \; --tw-backdrop-blur: \; --tw-backdrop-brightness: \; --tw-backdrop-contrast: \; --tw-backdrop-grayscale: \; --tw-backdrop-hue-rotate: \; --tw-backdrop-invert: \; --tw-backdrop-opacity: \; --tw-backdrop-saturate: \; --tw-backdrop-sepia: \;" />\n&nbsp\;</p>\n\n<p style="box-sizing: border-box\; border: 0px solid\; --tw-border-spacing-x: 0\; --tw-border-spacing-y: 0\; --tw-translate-x: 0\; --tw-translate-y: 0\; --tw-rotate: 0\; --tw-skew-x: 0\; --tw-skew-y: 0\; --tw-scale-x: 1\; --tw-scale-y: 1\; --tw-pan-x: \; --tw-pan-y: \; --tw-pinch-zoom: \; --tw-scroll-snap-strictness: proximity\; --tw-gradient-from-position: \; --tw-gradient-via-position: \; --tw-gradient-to-position: \; --tw-ordinal: \; --tw-slashed-zero: \; --tw-numeric-figure: \; --tw-numeric-spacing: \; --tw-numeric-fraction: \; --tw-ring-inset: \; --tw-ring-offset-width: 0px\; --tw-ring-offset-color: #fff\; --tw-ring-color: rgba(59\,130\,246\,.5)\; --tw-ring-offset-shadow: 0 0 #0000\; --tw-ring-shadow: 0 0 #0000\; --tw-shadow: 0 0 #0000\; --tw-shadow-colored: 0 0 #0000\; --tw-blur: \; --tw-brightness: \; --tw-contrast: \; --tw-grayscale: \; --tw-hue-rotate: \; --tw-invert: \; --tw-saturate: \; --tw-sepia: \; --tw-drop-shadow: \; --tw-backdrop-blur: \; --tw-backdrop-brightness: \; --tw-backdrop-contrast: \; --tw-backdrop-grayscale: \; --tw-backdrop-hue-rotate: \; --tw-backdrop-invert: \; --tw-backdrop-opacity: \; --tw-backdrop-saturate: \; --tw-backdrop-sepia: \; margin: 0px\; color: rgb(0\, 0\, 0)\; font-family: __Montserrat_4bc053\, __Montserrat_Fallback_4bc053\; font-size: medium\;"><span style="font-size:14px\;"><span style="font-family:verdana\;">Today\, Todd and Chad Adams (sons of Mel) serve as Adams Bank &amp\; Trust CEO and ADBANC\, Inc. President (<em style="box-sizing: border-box\; border: 0px solid\; --tw-border-spacing-x: 0\; --tw-border-spacing-y: 0\; --tw-translate-x: 0\; --tw-translate-y: 0\; --tw-rotate: 0\; --tw-skew-x: 0\; --tw-skew-y: 0\; --tw-scale-x: 1\; --tw-scale-y: 1\; --tw-pan-x: \; --tw-pan-y: \; --tw-pinch-zoom: \; --tw-scroll-snap-strictness: proximity\; --tw-gradient-from-position: \; --tw-gradient-via-position: \; --tw-gradient-to-position: \; --tw-ordinal: \; --tw-slashed-zero: \; --tw-numeric-figure: \; --tw-numeric-spacing: \; --tw-numeric-fraction: \; --tw-ring-inset: \; --tw-ring-offset-width: 0px\; --tw-ring-offset-color: #fff\; --tw-ring-color: rgba(59\,130\,246\,.5)\; --tw-ring-offset-shadow: 0 0 #0000\; --tw-ring-shadow: 0 0 #0000\; --tw-shadow: 0 0 #0000\; --tw-shadow-colored: 0 0 #0000\; --tw-blur: \; --tw-brightness: \; --tw-contrast: \; --tw-grayscale: \; --tw-hue-rotate: \; --tw-invert: \; --tw-saturate: \; --tw-sepia: \; --tw-drop-shadow: \; --tw-backdrop-blur: \; --tw-backdrop-brightness: \; --tw-backdrop-contrast: \; --tw-backdrop-grayscale: \; --tw-backdrop-hue-rotate: \; --tw-backdrop-invert: \; --tw-backdrop-opacity: \; --tw-backdrop-saturate: \; --tw-backdrop-sepia: \;">holding company of AB&amp\;T</em>)\, respectively. Under their leadership\, Adams Bank &amp\; Trust has grown to over $1 billion in assets and more than 20 branches in Nebraska\, Colorado\, and Kansas.</span></span></p>\n
LOCATION:
UID:e.3083.10718
SEQUENCE:3
DTSTAMP:20260421T190507Z
URL:https://members.longmontchamber.org/events/details/business-after-hours-at-adams-bank-trust-01-30-2025-10718
END:VEVENT

END:VCALENDAR
