BEGIN:VCALENDAR
VERSION:2.0
PRODID:-//ChamberMaster//Event Calendar 2.0//EN
METHOD:PUBLISH
X-PUBLISHED-TTL:P3D
REFRESH-INTERVAL:P3D
CALSCALE:GREGORIAN
BEGIN:VEVENT
DTSTART:20250327T230000Z
DTEND:20250328T010000Z
X-MICROSOFT-CDO-ALLDAYEVENT:FALSE
SUMMARY:Business After Hours at Bricks on Main
DESCRIPTION:Business After Hours at Bricks\n\nBusiness After Hours is a monthly networking event for Chamber members and potential members. Meet other local movers and shakers while enjoying great local food and beverages.\n\nHeld at a different location each month\, Business After Hours gives members the chance to experience a variety of businesses throughout the year. Each event boasts 100 150 attendees\, making it the perfect opportunity to connect\, collaborate\, and expand your network.\n\n\nDate: Thursday\, March 27\n\nTime: 5:00-7:00 PM\n\nLocation: Bricks\, 471 Main St\, Longmont\, CO 80501\n\nFree for Chamber Members | Light food and drink tickets provided\n\nAn After-Hours Event Like No Other\n\nJoin us for a special edition of Business After Hours at Bricks\, one of Longmont's most unique and dynamic spaces\, blending restaurant\, retail\, and event venue under one roof. This is more than just a networking event it's an opportunity to relax\, connect\, and experience an evening of great food\, drinks\, and live music in a one-of-a-kind setting.\n\nEnjoy a delicious selection of appetizers from Ms. Krissy's Bistro\, sip on a refreshing drink\, and explore the creative energy of Bricks while mingling with fellow Chamber members. As the evening unfolds\, settle in for an intimate live performance by Sid Williamson\, a talented local artist\, whose soulful sound will set the perfect backdrop for meaningful connections and conversation.\n\nWhether you're looking to make new business contacts\, catch up with familiar faces\, or simply unwind in a welcoming atmosphere\, this event is not to be missed. Stay for the networking\, stay for the music\, and leave with new opportunities and great memories.
X-ALT-DESC;FMTTYPE=text/html:<h3 data-end="40" data-start="0"><strong data-end="38" data-start="4">Business After Hours at Bricks</strong></h3>\n\n<p data-end="224" data-start="42"><strong data-end="222" data-start="42">Business After Hours is a monthly networking event for Chamber members and potential members. Meet other local movers and shakers while enjoying great local food and beverages.</strong></p>\n\n<p data-end="502" data-start="226">Held at a different location each month\, Business After Hours gives members the chance to experience a variety of businesses throughout the year. Each event boasts <strong data-end="411" data-start="390">100&ndash\;150 attendees</strong>\, making it the perfect opportunity to <strong data-end="499" data-start="450">connect\, collaborate\, and expand your network</strong>.</p>\n\n<hr data-end="509" data-start="504" />\n<p data-end="693" data-start="511"><strong data-end="520" data-start="511">Date:</strong> Thursday\, March 27<br data-end="542" data-start="539" />\n<strong data-end="551" data-start="542">Time:</strong> 5:00-7:00 PM<br data-end="567" data-start="564" />\n<strong data-end="580" data-start="567">Location:</strong> Bricks\, 471 Main St\, Longmont\, CO 80501<br data-end="623" data-start="620" />\n<strong data-end="691" data-start="623">Free for Chamber Members | Light food and drink tickets provided</strong></p>\n\n<h3 data-end="739" data-start="695"><strong data-end="737" data-start="699">An After-Hours Event Like No Other</strong></h3>\n\n<p data-end="1107" data-start="741">Join us for a <strong data-end="774" data-start="755">special edition</strong> of Business After Hours at <strong data-end="812" data-start="802">Bricks</strong>\, one of Longmont&rsquo\;s most unique and dynamic spaces\, blending <strong data-end="912" data-start="873">restaurant\, retail\, and event venue</strong> under one roof. This is more than just a networking event&mdash\;it&rsquo\;s an opportunity to <strong data-end="1028" data-start="994">relax\, connect\, and experience</strong> an evening of great food\, drinks\, and live music in a one-of-a-kind setting.</p>\n\n<p data-end="1509" data-start="1109">Enjoy a <strong data-end="1179" data-start="1117">delicious selection of appetizers from Ms. Krissy&rsquo\;s Bistro</strong>\, sip on a refreshing drink\, and <strong data-end="1253" data-start="1212">explore the creative energy of Bricks</strong> while mingling with fellow Chamber members. As the evening unfolds\, settle in for an intimate live performance by <strong data-end="1411" data-start="1368">Sid Williamson\, a talented local artist</strong>\, whose soulful sound will set the perfect backdrop for meaningful connections and conversation.</p>\n\n<p data-end="1774" data-start="1511">Whether you&rsquo\;re looking to make new business contacts\, catch up with familiar faces\, or simply unwind in a welcoming atmosphere\, this event is <strong data-end="1673" data-start="1653">not to be missed</strong>. Stay for the networking\, stay for the music\, and leave with new opportunities and great memories.</p>\n
LOCATION:
UID:e.3083.12144
SEQUENCE:3
DTSTAMP:20260421T160125Z
URL:https://members.longmontchamber.org/events/details/business-after-hours-at-bricks-on-main-12144
END:VEVENT

END:VCALENDAR
