BEGIN:VCALENDAR
VERSION:2.0
PRODID:-//ChamberMaster//Event Calendar 2.0//EN
METHOD:PUBLISH
X-PUBLISHED-TTL:P3D
REFRESH-INTERVAL:P3D
CALSCALE:GREGORIAN
BEGIN:VEVENT
DTSTART:20251030T233000Z
DTEND:20251031T013000Z
X-MICROSOFT-CDO-ALLDAYEVENT:FALSE
SUMMARY:Business After Hours at CommonSpirit: Longmont United Hospital
DESCRIPTION:Business After Hours is an evening networking opportunity that is free to all current Chamber Members!\n\nEnd Your Day with Meaningful Connections\n\nBusiness After Hours is the Chamber's premier evening networking event\, offering members a chance to unwind and connect in a casual\, social environment. Whether you're looking to expand your network\, share ideas\, or build relationships with fellow business professionals in Longmont\, this event is the perfect way to close out your workday. Enjoy great conversation\, light refreshments\, and the opportunity to showcase your business or get to know local leaders.\nThis month we are heading to CommonSpirit: Longmont United Hospital!\n\nCome join us at Longmont United Hospital to meet our dedicated staff and learn more about what we do at LUH! CommonSpirit - Longmont United Hospital is a full-service acute care hospital located in Longmont\, Colorado. We have provided high-quality\, whole person care for more than 60 years to Longmont and the surrounding communities. Longmont United Hospital was one of the first to be designated as a Planetree hospital in Colorado. This means we provide a person-centered approach in every aspect of care. Our caregivers treat the entire person because we understand the powerful connection between the body\, mind\, and spirit. We combine advanced technology\, innovative treatments\, and compassionate healing for patients at every stage of life.\n\n\n\n \n\nWhat to expect:\n\n\n	Relaxed networking with Chamber members and community leaders\n	We will have key focus areas of our hospital represented at the after hours event including OB/Women's Health\, Oncology\, GI\, Back and Spine\, Community Health\, Emergency\, to name a few. \n	Tour of our newly renovated family rooms and kitchens on floors 2 & 3\n	Appetizers and drinks\n\n \n\nFor More Information Email Haley at hhyde@longmontchamber.org
X-ALT-DESC;FMTTYPE=text/html:<p data-end="769" data-start="305"><strong data-end="253" data-start="147">Business After Hours is an evening networking opportunity that is free to all current Chamber Members!</strong></p>\n\n<p data-end="303" data-start="257"><strong data-end="301" data-start="257">End Your Day with Meaningful Connections</strong></p>\n\n<p data-end="769" data-start="305">Business After Hours is the Chamber&rsquo\;s premier evening networking event\, offering members a chance to unwind and connect in a casual\, social environment. Whether you&#39\;re looking to expand your network\, share ideas\, or build relationships with fellow business professionals in Longmont\, this event is the perfect way to close out your workday. Enjoy great conversation\, light refreshments\, and the opportunity to showcase your business or get to know local leaders.</p>\n<strong>This month we are heading to CommonSpirit: Longmont United Hospital!</strong>\n\n<p data-end="769" data-start="305">Come join us at Longmont United Hospital to meet our dedicated staff and learn more about what we do at LUH! CommonSpirit - Longmont United Hospital is a full-service acute care hospital located in Longmont\, Colorado. We have provided high-quality\, whole person care for more than 60 years to Longmont and the surrounding communities. Longmont United Hospital was one of the first to be designated as a Planetree hospital in Colorado. This means we provide a person-centered approach in every aspect of care. Our caregivers treat the entire person because we understand the powerful connection between the body\, mind\, and spirit. We combine advanced technology\, innovative treatments\, and compassionate healing for patients at every stage of life.<br />\n<br />\n&nbsp\;<br />\nWhat to expect:</p>\n\n<ul>\n	<li data-end="769" data-start="305">Relaxed networking with Chamber members and community leaders</li>\n	<li data-end="769" data-start="305">We will have key focus areas of our hospital represented at the after hours event including OB/Women&#39\;s Health\, Oncology\, GI\, Back and Spine\, Community Health\, Emergency\, to name a few.&nbsp\;</li>\n	<li data-end="769" data-start="305">Tour of our newly renovated family rooms and kitchens on floors 2 &amp\; 3</li>\n	<li data-end="769" data-start="305">Appetizers and drinks</li>\n</ul>\n&nbsp\;\n\n<p data-end="896" data-start="854">For More Information Email Haley at <a class="cursor-pointer" data-end="894" data-start="869" rel="noopener">hhyde@longmontchamber.org</a></p>\n
LOCATION:Longmont United Hospital
UID:e.3083.13299
SEQUENCE:3
DTSTAMP:20260421T052746Z
URL:https://members.longmontchamber.org/events/details/business-after-hours-at-commonspirit-longmont-united-hospital-13299
END:VEVENT

END:VCALENDAR
