BEGIN:VCALENDAR
VERSION:2.0
PRODID:-//ChamberMaster//Event Calendar 2.0//EN
METHOD:PUBLISH
X-PUBLISHED-TTL:P3D
REFRESH-INTERVAL:P3D
CALSCALE:GREGORIAN
BEGIN:VEVENT
DTSTART:20251212T000000Z
DTEND:20251212T020000Z
X-MICROSOFT-CDO-ALLDAYEVENT:FALSE
SUMMARY:Business After Hours at Eye Care Center of Northern Colorado
DESCRIPTION:Business After Hours is a monthly networking opportunity for Chamber Members and potential Chamber Members.  Meet other local movers and shakers while enjoying local food and beverage.  \n\n\n\nBusiness After Hours is held at a different location each month so members can experience a variety of businesses throughout the year.  Each event boasts 100-150 in attendance.\n\n\n\nThis Business After Hours is also a drive for the OUR Center! In demand items are\n\n	Food items in particular need are soup\, refried beans\, hot/cold cereal\, canned carrots/corn. All non-perishable items are welcome.\n	Personal hygiene need family size and travel size.\n	 Checks made payable to OUR Center.\n\nAbout Eye Care Center of Northern Colorado\n\nEye Care Center of Northern Colorado is Colorado's most advanced facility for eye health\, surgery\, and vision correction. Our philosophy is patient-first: we've built our entire practice around making it easy for our patients to have access to the best and most comprehensive care. Our fellowship-trained and board-certified specialists in retina\, cornea\, glaucoma\, and oculoplastics can treat virtually any ocular condition.
X-ALT-DESC;FMTTYPE=text/html:Business After Hours is a monthly networking opportunity for Chamber Members and potential Chamber Members.&nbsp\; Meet other local movers and shakers while enjoying local food and beverage.&nbsp\;&nbsp\;<br />\n<br />\nBusiness After Hours is held at a different location each month so members can experience a variety of businesses throughout the year.&nbsp\; Each event boasts 100-150 in attendance.<br />\n<br />\nThis Business After Hours is also a drive for the OUR Center! In demand items are\n<ul>\n	<li>Food items in particular need are soup\, refried beans\, hot/cold cereal\, canned carrots/corn. All non-perishable items are welcome.</li>\n	<li>Personal hygiene need family size and travel size.</li>\n	<li>&#8203\;Checks made payable to OUR Center.</li>\n</ul>\n<strong>About Eye Care Center of Northern Colorado</strong><br />\nEye Care Center of Northern Colorado is Colorado&rsquo\;s most advanced facility for eye health\, surgery\, and vision correction. Our philosophy is patient-first: we&rsquo\;ve built our entire practice around making it easy for our patients to have access to the best and most comprehensive care. Our fellowship-trained and board-certified specialists in retina\, cornea\, glaucoma\, and oculoplastics can treat virtually any ocular condition.<br />\n&nbsp\;
LOCATION:
UID:e.3083.13300
SEQUENCE:3
DTSTAMP:20260421T020359Z
URL:https://members.longmontchamber.org/events/details/business-after-hours-at-eye-care-center-of-northern-colorado-13300
END:VEVENT

END:VCALENDAR
