BEGIN:VCALENDAR
VERSION:2.0
PRODID:-//ChamberMaster//Event Calendar 2.0//EN
METHOD:PUBLISH
X-PUBLISHED-TTL:P3D
REFRESH-INTERVAL:P3D
CALSCALE:GREGORIAN
BEGIN:VEVENT
DTSTART:20241115T000000Z
DTEND:20241115T020000Z
X-MICROSOFT-CDO-ALLDAYEVENT:FALSE
SUMMARY:Business After Hours at Hilton Garden Inn
DESCRIPTION:Business After Hours is a monthly networking opportunity for Chamber Members and potential Chamber Members.  Meet other local movers and shakers while enjoying local food and beverage.  \n\n\n\nBusiness After Hours is held at a different location each month so members can experience a variety of businesses throughout the year.  Each event boasts 100-150 in attendance.\n\n\n\nAbout Hilton Garden Inn\n\nRelax with views of the Rockies. Find our hotel near US 287\, moments from restaurants and major retailers. We're bordered by St. Vrain Creek   great for tubing and kayaking   and there are several city parks\, hiking trails\, and golf courses nearby. Enjoy our indoor pool and 24-hour fitness center\, and count on cooked-to-order breakfast each day. WiFi's on us.\n\n\n\nParking is available at Harvest Junction\, BioLife\, and Christian Brothers Automotive. Please do not park at the Hilton Garden Inn due to their overnight customers. Thank you!
X-ALT-DESC;FMTTYPE=text/html:<br />\nBusiness After Hours is a monthly networking opportunity for Chamber Members and potential Chamber Members.&nbsp\; Meet other local movers and shakers while enjoying local food and beverage.&nbsp\;&nbsp\;<br />\n<br />\nBusiness After Hours is held at a different location each month so members can experience a variety of businesses throughout the year.&nbsp\; Each event boasts 100-150 in attendance.<br />\n<br />\n<strong>About Hilton Garden Inn</strong><br />\nRelax with views of the Rockies. Find our hotel near US 287\, moments from restaurants and major retailers. We&#39\;re bordered by St. Vrain Creek &ndash\; great for tubing and kayaking &ndash\; and there are several city parks\, hiking trails\, and golf courses nearby. Enjoy our indoor pool and 24-hour fitness center\, and count on cooked-to-order breakfast each day. WiFi&#39\;s on us.<br />\n<br />\n<strong>Parking is available at Harvest Junction\, BioLife\, and Christian Brothers Automotive. Please do not park at the Hilton Garden Inn due to their overnight customers. Thank you!</strong>
LOCATION:
UID:e.3083.9992
SEQUENCE:3
DTSTAMP:20260421T223624Z
URL:https://members.longmontchamber.org/events/details/business-after-hours-at-hilton-garden-inn-9992
END:VEVENT

END:VCALENDAR
