BEGIN:VCALENDAR
VERSION:2.0
PRODID:-//ChamberMaster//Event Calendar 2.0//EN
METHOD:PUBLISH
X-PUBLISHED-TTL:P3D
REFRESH-INTERVAL:P3D
CALSCALE:GREGORIAN
BEGIN:VEVENT
DTSTART:20250424T230000Z
DTEND:20250425T010000Z
X-MICROSOFT-CDO-ALLDAYEVENT:FALSE
SUMMARY:Business After Hours at Longmont Museum
DESCRIPTION:Business After Hours at the Longmont Museum\n\nAn Evening of Art\, Culture\, and Connection\n\nBusiness After Hours is a monthly networking event for Chamber members and potential members. Meet other local professionals while enjoying great food\, drinks\, and engaging conversation in a relaxed setting.\n\nEach month\, we bring Business After Hours to a different host location\, offering members the chance to explore Longmont's vibrant business community. With 100 150 attendees\, this event is a prime opportunity to expand your network and strengthen connections.\n\n\nA Special Evening at the Longmont Museum\n\nJoin us at one of Longmont's most inspiring cultural venues for a unique edition of Business After Hours.\n\nFeatured Exhibit: A Graphic Journey: Prints by Pablo Picasso [Link to more Information]\n\nThis exhibition includes nearly 60 works from 1923 to 1972\, tracing Picasso's printmaking evolution across three major periods. Experience his interpretations of love\, war\, power\, and humanity on display for a limited time.\n\nBonus Program: Thursday Nights @ the Museum   Avant Gardens [Link to More Information]\n\nAt 7:00 PM\, enjoy a panel discussion featuring local experts in garden design and horticulture\, exploring what's new and next in the world of landscape design.\n\nEnjoy heavy appetizers\, drinks\, and great conversation throughout the evening.\n\nDoor Prize: Giving Club Membership ($250 value)\n\nIncludes exhibit passes\, guest benefits\, regional art excursions\, and discounts on museum programs.\n\n\nRSVPs Encouraged\n\nPlease RSVP to help our hosts plan for food and beverage. We look forward to seeing you there!
X-ALT-DESC;FMTTYPE=text/html:<h3 data-end="144" data-start="91"><strong data-end="142" data-start="95">Business After Hours at the Longmont Museum</strong></h3>\n\n<p data-end="189" data-start="145"><em data-end="189" data-start="145">An Evening of Art\, Culture\, and Connection</em></p>\n\n<p data-end="402" data-start="191"><strong data-end="215" data-start="191">Business After Hours</strong> is a monthly networking event for Chamber members and potential members. Meet other local professionals while enjoying great food\, drinks\, and engaging conversation in a relaxed setting.</p>\n\n<p data-end="662" data-start="404">Each month\, we bring Business After Hours to a different host location\, offering members the chance to explore Longmont&rsquo\;s vibrant business community. With 100&ndash\;150 attendees\, this event is a prime opportunity to expand your network and strengthen connections.</p>\n\n<hr data-end="667" data-start="664" />\n<h3 data-end="719" data-start="669"><strong data-end="717" data-start="673">A Special Evening at the Longmont Museum</strong></h3>\n\n<p data-end="825" data-start="720">Join us at one of Longmont&rsquo\;s most inspiring cultural venues for a unique edition of Business After Hours.</p>\n\n<p data-end="1119" data-start="827"><strong data-end="893" data-start="827">Featured Exhibit: <em data-end="891" data-start="847">A Graphic Journey: Prints by Pablo Picasso <a href="https://longmontcolorado.gov/news/picasso-exhibit-to-open-at-the-longmont-museum/">[Link to more Information]</a></em></strong><br data-end="896" data-start="893" />\nThis exhibition includes nearly 60 works from 1923 to 1972\, tracing Picasso&rsquo\;s printmaking evolution across three major periods. Experience his interpretations of love\, war\, power\, and humanity&mdash\;on display for a limited time.</p>\n\n<p data-end="1348" data-start="1121"><strong data-end="1186" data-start="1121">Bonus Program: <em data-end="1184" data-start="1138">Thursday Nights @ the Museum &ndash\; Avant Gardens <a href="https://longmontcolorado.gov/event/free-talk-avant-gardens/">[Link to More Information]</a></em></strong><br data-end="1189" data-start="1186" />\nAt 7:00 PM\, enjoy a panel discussion featuring local experts in garden design and horticulture\, exploring what&rsquo\;s new and next in the world of landscape design.</p>\n\n<p data-end="1432" data-start="1350"><strong data-end="1408" data-start="1350">Enjoy heavy appetizers\, drinks\, and great conversation</strong> throughout the evening.</p>\n\n<p data-end="1587" data-start="1434"><strong data-end="1485" data-start="1434">Door Prize: Giving Club Membership ($250 value)</strong><br data-end="1488" data-start="1485" />\nIncludes exhibit passes\, guest benefits\, regional art excursions\, and discounts on museum programs.</p>\n\n<hr data-end="1592" data-start="1589" />\n<h3 data-end="1620" data-start="1594"><strong data-end="1618" data-start="1598">RSVPs Encouraged</strong></h3>\n\n<p data-end="1715" data-start="1621">Please RSVP to help our hosts plan for food and beverage. We look forward to seeing you there!</p>\n\n<hr data-end="1720" data-start="1717" />\n<p data-end="1849" data-start="1722">&nbsp\;</p>\n
LOCATION:Longmont Museum
UID:e.3083.12684
SEQUENCE:3
DTSTAMP:20260421T143334Z
URL:https://members.longmontchamber.org/events/details/business-after-hours-at-longmont-museum-12684
END:VEVENT

END:VCALENDAR
