BEGIN:VCALENDAR
VERSION:2.0
PRODID:-//ChamberMaster//Event Calendar 2.0//EN
METHOD:PUBLISH
X-PUBLISHED-TTL:P3D
REFRESH-INTERVAL:P3D
CALSCALE:GREGORIAN
BEGIN:VEVENT
DTSTART:20250918T230000Z
DTEND:20250919T010000Z
X-MICROSOFT-CDO-ALLDAYEVENT:FALSE
SUMMARY:Business After Hours at The OUR Center
DESCRIPTION:Business After Hours is an evening networking opportunity that is free to all current Chamber Members!\n\nEnd Your Day with Meaningful Connections\n\nBusiness After Hours is the Chamber's premier evening networking event\, offering members a chance to unwind and connect in a casual\, social environment. Whether you're looking to expand your network\, share ideas\, or build relationships with fellow business professionals\, this event is the perfect way to close out your workday with purpose.\n\nThis month\, we're heading to OUR Center (Outreach United Resource Center) Longmont's Family Resource Center since 1986. OUR Center unites community resources to help neighbors in times of crisis and supports families on their path to long-term stability.\n\nWhat to Expect:\n\n\n	\n	Relaxed networking with Chamber members and community leaders\n	\n	\n	Meet the OUR Center team and learn how they empower local families\n	\n	\n	Tour the Family Resource Center at 220 Collyer St.\n	\n	\n	Contribute to our Food Drive bring shelf-stable items to help stock the pantry and support local families\n	\n\n\nFounded by local faith leaders nearly 40 years ago\, OUR Center remains a true community-based nonprofit\, working across agencies to provide vital programs like parenting support\, financial literacy\, and one-on-one resource navigation.\n\nFor more info\, contact Haley Hyde at hhyde@longmontchamber.org.\n\n \n\nFood Drive: What to Bring\n\nHelp us restock the pantry! High-need\, shelf-stable items include:\n\n\n	\n	Canned proteins (tuna\, chicken\, chili\, beans)\n	\n	\n	Peanut/seed butter\; canned or dry beans\; rice and pasta\n	\n	\n	Canned fruits & veggies\; soups and stews\n	\n	\n	Shelf-stable milk\; breakfast items (oats\, cereal)\n	\n	\n	Baby needs (diapers\, wipes) and basic toiletries (soap\, shampoo\, toothpaste)\n	\n\n\nPlease avoid: expired items\, opened packages\, and glass jars when possible.
X-ALT-DESC;FMTTYPE=text/html:<h3 data-end="144" data-start="91">&nbsp\;</h3>\n\n<p data-end="255" data-start="147"><strong data-end="253" data-start="147">Business After Hours is an evening networking opportunity that is free to all current Chamber Members!</strong></p>\n\n<p data-end="303" data-start="257"><strong data-end="301" data-start="257">End Your Day with Meaningful Connections</strong></p>\n\n<p data-end="353" data-start="307">Business After Hours is the Chamber&rsquo\;s premier evening networking event\, offering members a chance to unwind and connect in a casual\, social environment. Whether you&#39\;re looking to expand your network\, share ideas\, or build relationships with fellow business professionals\, this event is the perfect way to close out your workday with purpose.</p>\n\n<p data-end="960" data-start="700">This month\, we&rsquo\;re heading to <strong data-end="777" data-start="729">OUR Center (Outreach United Resource Center)</strong>&mdash\;Longmont&rsquo\;s Family Resource Center since 1986. OUR Center unites community resources to help neighbors in times of crisis and supports families on their path to long-term stability.</p>\n\n<p data-end="985" data-start="962"><strong data-end="983" data-start="964">What to Expect:</strong></p>\n\n<ul data-end="1291" data-start="986">\n	<li data-end="1051" data-start="986">\n	<p data-end="1051" data-start="988">Relaxed networking with Chamber members and community leaders</p>\n	</li>\n	<li data-end="1122" data-start="1052">\n	<p data-end="1122" data-start="1054">Meet the OUR Center team and learn how they empower local families</p>\n	</li>\n	<li data-end="1177" data-start="1123">\n	<p data-end="1177" data-start="1125">Tour the Family Resource Center at 220 Collyer St.</p>\n	</li>\n	<li data-end="1291" data-start="1178">\n	<p data-end="1291" data-start="1180">Contribute to our <strong data-end="1212" data-start="1198">Food Drive</strong>&mdash\;bring shelf-stable items to help stock the pantry and support local families</p>\n	</li>\n</ul>\n\n<p data-end="1529" data-start="1293">Founded by local faith leaders nearly 40 years ago\, OUR Center remains a true community-based nonprofit\, working across agencies to provide vital programs like parenting support\, financial literacy\, and one-on-one resource navigation.</p>\n\n<p data-end="1707" data-start="1602">For more info\, contact <strong data-end="1639" data-start="1625">Haley Hyde</strong> at <a class="decorated-link cursor-pointer" data-end="1704" data-start="1643" rel="noopener">hhyde@longmontchamber.org<span aria-hidden="true" class="ms-0.5 inline-block align-middle leading-none"><svg class="block h-[0.75em] w-[0.75em] stroke-current stroke-[0.75]" data-rtl-flip="" fill="currentColor" height="20" viewbox="0 0 20 20" width="20" xmlns="http://www.w3.org/2000/svg"><path d="M14.3349 13.3301V6.60645L5.47065 15.4707C5.21095 15.7304 4.78895 15.7304 4.52925 15.4707C4.26955 15.211 4.26955 14.789 4.52925 14.5293L13.3935 5.66504H6.66011C6.29284 5.66504 5.99507 5.36727 5.99507 5C5.99507 4.63273 6.29284 4.33496 6.66011 4.33496H14.9999L15.1337 4.34863C15.4369 4.41057 15.665 4.67857 15.665 5V13.3301C15.6649 13.6973 15.3672 13.9951 14.9999 13.9951C14.6327 13.9951 14.335 13.6973 14.3349 13.3301Z"></path></svg></span></a>.<br />\n&nbsp\;</p>\n\n<h2 data-end="2436" data-start="2408">Food Drive: What to Bring</h2>\n\n<p data-end="2505" data-start="2437">Help us restock the pantry! High-need\, shelf-stable items include:</p>\n\n<ul data-end="2793" data-start="2506">\n	<li data-end="2555" data-start="2506">\n	<p data-end="2555" data-start="2508">Canned proteins (tuna\, chicken\, chili\, beans)</p>\n	</li>\n	<li data-end="2615" data-start="2556">\n	<p data-end="2615" data-start="2558">Peanut/seed butter\; canned or dry beans\; rice and pasta</p>\n	</li>\n	<li data-end="2660" data-start="2616">\n	<p data-end="2660" data-start="2618">Canned fruits &amp\; veggies\; soups and stews</p>\n	</li>\n	<li data-end="2714" data-start="2661">\n	<p data-end="2714" data-start="2663">Shelf-stable milk\; breakfast items (oats\, cereal)</p>\n	</li>\n	<li data-end="2793" data-start="2715">\n	<p data-end="2793" data-start="2717">Baby needs (diapers\, wipes) and basic toiletries (soap\, shampoo\, toothpaste)</p>\n	</li>\n</ul>\n\n<p data-end="2874" data-start="2795"><strong data-end="2812" data-start="2795">Please avoid:</strong> expired items\, opened packages\, and glass jars when possible.</p>\n\n<p data-end="896" data-start="854">&nbsp\;</p>\n
LOCATION:The OUR Center
UID:e.3083.13298
SEQUENCE:3
DTSTAMP:20260421T064240Z
URL:https://members.longmontchamber.org/events/details/business-after-hours-at-the-our-center-13298
END:VEVENT

END:VCALENDAR
