BEGIN:VCALENDAR
VERSION:2.0
PRODID:-//ChamberMaster//Event Calendar 2.0//EN
METHOD:PUBLISH
X-PUBLISHED-TTL:P3D
REFRESH-INTERVAL:P3D
CALSCALE:GREGORIAN
BEGIN:VEVENT
DTSTART:20251121T000000Z
DTEND:20251121T020000Z
X-MICROSOFT-CDO-ALLDAYEVENT:FALSE
SUMMARY:Business After Hours at Vectra Bank
DESCRIPTION:Business After Hours is an evening networking opportunity that is free to all current Chamber Members!\n\nEnd Your Day with Meaningful Connections\n\nBusiness After Hours is the Chamber's premier evening networking event\, offering members a chance to unwind and connect in a casual\, social environment. Whether you're looking to expand your network\, share ideas\, or build relationships with fellow business professionals in Longmont\, this event is the perfect way to close out your workday. Enjoy great conversation\, light refreshments\, and the opportunity to showcase your business or get to know local leaders.\n\n\n\nThis month we are headed to Vectra Bank!
X-ALT-DESC;FMTTYPE=text/html:<p data-end="769" data-start="305"><strong data-end="253" data-start="147">Business After Hours is an evening networking opportunity that is free to all current Chamber Members!</strong></p>\n\n<p data-end="303" data-start="257"><strong data-end="301" data-start="257">End Your Day with Meaningful Connections</strong></p>\n\n<p data-end="769" data-start="305">Business After Hours is the Chamber&rsquo\;s premier evening networking event\, offering members a chance to unwind and connect in a casual\, social environment. Whether you&#39\;re looking to expand your network\, share ideas\, or build relationships with fellow business professionals in Longmont\, this event is the perfect way to close out your workday. Enjoy great conversation\, light refreshments\, and the opportunity to showcase your business or get to know local leaders.<br />\n<br />\n<strong>This month we are headed to Vectra Bank!</strong></p>\n
LOCATION:Vectra Bank
UID:e.3083.14609
SEQUENCE:3
DTSTAMP:20260421T051537Z
URL:https://members.longmontchamber.org/events/details/business-after-hours-at-vectra-bank-14609
END:VEVENT

END:VCALENDAR
