BEGIN:VCALENDAR
VERSION:2.0
PRODID:-//ChamberMaster//Event Calendar 2.0//EN
METHOD:PUBLISH
X-PUBLISHED-TTL:P3D
REFRESH-INTERVAL:P3D
CALSCALE:GREGORIAN
BEGIN:VEVENT
DTSTART:20250806T230000Z
DTEND:20250807T013000Z
X-MICROSOFT-CDO-ALLDAYEVENT:FALSE
SUMMARY:Business After Hours & Nexus YP MEGA MIXER!
DESCRIPTION:It's a Mega Mixer!  \n\nWe're teaming up with two of our favorite crews Nexus Young Professionals and Business After Hours for one epic evening of networking\, community\, and celebration at the Boulder County Fairgrounds Biergarten!\n\n  What to Expect:\n\nLive music\, ice-cold drinks\, and hyper-local Longmont energy\, all happening on the opening night of the 156th annual Boulder County Fair! Whether you're a rising young pro or a seasoned business leader\, this special summer mixer is the perfect chance to grow your network in a fun\, festive\, and laid-back setting.\n\n  Stick Around for the Fair!\n\nAfter you mingle\, enjoy the first night of five nights of free live music in the Fair Garden\, sponsored by Stapp Toyota. The evening kicks off a weeklong celebration featuring:\n\n\n	\n	  20+ Local & National Touring Artists (all free!)\n	\n	\n	  10 of Colorado's best food trucks\n	\n	\n	  Axe throwing\, a mechanical bull & the carnival\n	\n	\n	  Affordable drinks and fairground favorites\n	\n	\n	  Buy Tickets to the rest of the weekend's events including the CPRA Rodeo\, Tractor Pull\, Demo Derby & more! [Link to Weekend Tickets]\n	\n\n\nThis event is all-ages and open to all Chamber members so bring a friend\, a colleague\, or the whole crew.\n\nCheers to local flavor\, local music\, and local connections!  \n\n  Preview the Music Lineup on Spotify
X-ALT-DESC;FMTTYPE=text/html:<p data-end="389" data-start="139"><span style="font-size:20px\;">&#127881\; <strong data-end="164" data-start="142">It&rsquo\;s a Mega Mixer!</strong> &#127881\;</span><br data-end="170" data-start="167" />\n<span style="font-size:16px\;">We&rsquo\;re teaming up with two of our favorite crews&mdash\;<strong data-end="247" data-start="218">Nexus Young Professionals</strong> and <strong data-end="276" data-start="252">Business After Hours</strong>&mdash\;for one epic evening of networking\, community\, and celebration at the <strong data-end="388" data-start="347">Boulder County Fairgrounds Biergarten</strong>!</span></p>\n\n<p data-end="732" data-start="391"><span style="font-size:20px\;">&#10024\; <strong data-end="412" data-start="393">What to Expect:</strong></span><br data-end="415" data-start="412" />\n<span style="font-size:16px\;">Live music\, ice-cold drinks\, and hyper-local Longmont energy\, all happening on the <strong data-end="555" data-start="498">opening night of the 156th annual Boulder County Fair</strong>! Whether you&#39\;re a rising young pro or a seasoned business leader\, this special summer mixer is the perfect chance to grow your network in a fun\, festive\, and laid-back setting.</span></p>\n\n<p data-end="948" data-start="734"><span style="font-size:16px\;">&#127926\; <strong data-end="767" data-start="737">Stick Around for the Fair!</strong><br data-end="770" data-start="767" />\nAfter you mingle\, enjoy the first night of <em data-end="826" data-start="813">five nights</em> of free live music in the Fair Garden\, sponsored by Stapp Toyota. The evening kicks off a weeklong celebration featuring:</span></p>\n\n<ul data-end="1200" data-start="950">\n	<li data-end="1005" data-start="950">\n	<p data-end="1005" data-start="952"><span style="font-size:16px\;">&#127908\; 20+ Local &amp\; National Touring Artists (all free!)</span></p>\n	</li>\n	<li data-end="1046" data-start="1006">\n	<p data-end="1046" data-start="1008"><span style="font-size:16px\;">&#127790\; 10 of Colorado&rsquo\;s best food trucks</span></p>\n	</li>\n	<li data-end="1100" data-start="1047">\n	<p data-end="1100" data-start="1049"><span style="font-size:16px\;">&#127919\; Axe throwing\, a mechanical bull &amp\; the carnival</span></p>\n	</li>\n	<li data-end="1150" data-start="1101">\n	<p data-end="1150" data-start="1103"><span style="font-size:16px\;">&#127867\; Affordable drinks and fairground favorites</span></p>\n	</li>\n	<li data-end="1200" data-start="1151">\n	<p data-end="1200" data-start="1153"><span style="font-size:16px\;">&#128014\; Buy Tickets to the rest of the weekend&#39\;s events including the CPRA Rodeo\, Tractor Pull\, Demo Derby &amp\; more! <a href="https://www.bouldercountyfair.org/p/boulder-county-fair-tickets">[Link to Weekend Tickets]</a></span></p>\n	</li>\n</ul>\n\n<p data-end="1311" data-start="1202"><span style="font-size:16px\;">This event is <strong data-end="1260" data-start="1216">all-ages and open to all Chamber members</strong>&mdash\;so bring a friend\, a colleague\, or the whole crew.</span></p>\n\n<p data-end="1379" data-start="1313"><span style="font-size:16px\;"><strong data-end="1376" data-start="1313">Cheers to local flavor\, local music\, and local connections!</strong> &#127867\;</span></p>\n\n<p data-end="1424" data-start="1381"><span style="font-size:16px\;">&#127911\; <a data-end="1424" data-start="1384" href="#" rel="noopener">Preview the Music Lineup on Spotify</a></span></p>\n\n<p data-end="374" data-start="344">&nbsp\;</p>\n
LOCATION:Boulder County Fairgrounds
UID:e.3083.13297
SEQUENCE:3
DTSTAMP:20260421T082641Z
URL:https://members.longmontchamber.org/events/details/business-after-hours-nexus-yp-mega-mixer-13297
END:VEVENT

END:VCALENDAR
