BEGIN:VCALENDAR
VERSION:2.0
PRODID:-//ChamberMaster//Event Calendar 2.0//EN
METHOD:PUBLISH
X-PUBLISHED-TTL:P3D
REFRESH-INTERVAL:P3D
CALSCALE:GREGORIAN
BEGIN:VEVENT
DTSTART:20250619T230000Z
DTEND:20250620T010000Z
X-MICROSOFT-CDO-ALLDAYEVENT:FALSE
SUMMARY:Business After Hours: Winner's Circle
DESCRIPTION:Business After Hours is an evening networking opportunity that is free to all current Chamber Members!\n\nEnd Your Day with Meaningful Connections\n\nBusiness After Hours is the Chamber's premier evening networking event\, offering members a chance to unwind and connect in a casual\, social environment. Whether you're looking to expand your network\, share ideas\, or build relationships with fellow business professionals in Longmont\, this event is the perfect way to close out your workday.\n\nThis month\, we're heading to Winner's Circle Colorado\, one of Longmont's newest and most dynamic entertainment destinations. Founded by local entrepreneurs Adam and Leslie Schubert\, Winner's Circle was built with the vision of combining global inspiration with local connection offering a space where families\, friends\, and professionals can gather\, celebrate\, and create unforgettable moments.\n\nGet ready to eat\, play\, and connect in style.\n\nWinner's Circle brings excitement and sophistication together in a venue that's equal parts stylish and fun. During Business After Hours\, you'll have a chance to explore the wide array of activities designed to entertain and engage:\n\n\n	\n	  Duckpin Bowling   A fun twist on traditional bowling with smaller pins and lighter balls\, perfect for quick\, friendly competition.\n	\n	\n	  Curling (No Ice Required!)   Their shuffleboard-style curling lanes are fast\, fun\, and easy to learn no sweeping necessary.\n	\n	\n	  High-Tech Axe Throwing   Test your skills in this gamified experience featuring digital scoring\, unique challenges\, and expert guidance.\n	\n	\n	   Arcade   From retro classics to cutting-edge virtual reality\, their arcade offers ticketed games and prizes for players of all ages.\n	\n	\n	   Restaurant & Bar   Enjoy delicious bites and refreshing beverages crafted from locally sourced ingredients.\n	\n	\n	  Secret Photo Booth   Don't miss the stylish photo booth that might just lead you somewhere unexpected...\n	\n\n\nWinner's Circle was designed to spark joy and connection\, and we're excited to bring the Chamber community together in this unforgettable space.\n\nJoin us for great conversation\, light refreshments\, and a truly elevated networking experience.\n\nAll Chamber members welcome!\n\nFor more information\, contact Haley at hhyde@longmontchamber.org.
X-ALT-DESC;FMTTYPE=text/html:<p data-end="255" data-start="147" style="box-sizing: border-box\; margin: 0px 0px 1rem\; padding: 0px 0px 1em\; border: 0px\; outline: 0px\; font-size: 16px\; text-size-adjust: 100%\; vertical-align: baseline\; background-image: initial\; background-position: initial\; background-size: initial\; background-repeat: initial\; background-attachment: initial\; background-origin: initial\; background-clip: initial\; color: rgb(81\, 83\, 81)\; font-family: Montserrat\, Arial\, Helvetica\, sans-serif\;"><span data-end="253" data-start="147" style="box-sizing: border-box\; margin: 0px\; padding: 0px\; border: 0px\; outline: 0px\; text-size-adjust: 100%\; vertical-align: baseline\; background: transparent\; font-weight: bolder\;">Business After Hours is an evening networking opportunity that is free to all current Chamber Members!</span></p>\n\n<p data-end="327" data-start="183"><strong data-end="373" data-start="329">End Your Day with Meaningful Connections</strong></p>\n\n<p data-end="715" data-start="375">Business After Hours is the Chamber&rsquo\;s premier evening networking event\, offering members a chance to unwind and connect in a casual\, social environment. Whether you&#39\;re looking to expand your network\, share ideas\, or build relationships with fellow business professionals in Longmont\, this event is the perfect way to close out your workday.</p>\n\n<p data-end="1115" data-start="717">This month\, we&rsquo\;re heading to <strong data-end="774" data-start="746">Winner&rsquo\;s Circle Colorado</strong>\, one of Longmont&rsquo\;s newest and most dynamic entertainment destinations. Founded by local entrepreneurs Adam and Leslie Schubert\, Winner&rsquo\;s Circle was built with the vision of combining global inspiration with local connection&mdash\;offering a space where families\, friends\, and professionals can gather\, celebrate\, and create unforgettable moments.</p>\n\n<p data-end="1166" data-start="1117"><strong data-end="1166" data-start="1117">Get ready to eat\, play\, and connect in style.</strong></p>\n\n<p data-end="1400" data-start="1168">Winner&rsquo\;s Circle brings excitement and sophistication together in a venue that&rsquo\;s equal parts stylish and fun. During Business After Hours\, you&#39\;ll have a chance to explore the wide array of activities designed to entertain and engage:</p>\n\n<ul data-end="2207" data-start="1402">\n	<li data-end="1543" data-start="1402">\n	<p data-end="1543" data-start="1404">&#127923\; <strong data-end="1426" data-start="1407">Duckpin Bowling</strong> &ndash\; A fun twist on traditional bowling with smaller pins and lighter balls\, perfect for quick\, friendly competition.</p>\n	</li>\n	<li data-end="1678" data-start="1544">\n	<p data-end="1678" data-start="1546">&#129356\; <strong data-end="1579" data-start="1549">Curling (No Ice Required!)</strong> &ndash\; Their shuffleboard-style curling lanes are fast\, fun\, and easy to learn&mdash\;no sweeping necessary.</p>\n	</li>\n	<li data-end="1826" data-start="1679">\n	<p data-end="1826" data-start="1681">&#129683\; <strong data-end="1710" data-start="1684">High-Tech Axe Throwing</strong> &ndash\; Test your skills in this gamified experience featuring digital scoring\, unique challenges\, and expert guidance.</p>\n	</li>\n	<li data-end="1971" data-start="1827">\n	<p data-end="1971" data-start="1829">&#128377\;&#65039\; <strong data-end="1843" data-start="1833">Arcade</strong> &ndash\; From retro classics to cutting-edge virtual reality\, their arcade offers ticketed games and prizes for players of all ages.</p>\n	</li>\n	<li data-end="2091" data-start="1972">\n	<p data-end="2091" data-start="1974">&#127869\;&#65039\; <strong data-end="1998" data-start="1978">Restaurant &amp\; Bar</strong> &ndash\; Enjoy delicious bites and refreshing beverages crafted from locally sourced ingredients.</p>\n	</li>\n	<li data-end="2207" data-start="2092">\n	<p data-end="2207" data-start="2094">&#128248\; <strong data-end="2119" data-start="2097">Secret Photo Booth</strong> &ndash\; Don&rsquo\;t miss the stylish photo booth that <em data-end="2204" data-start="2162">might just lead you somewhere unexpected</em>...</p>\n	</li>\n</ul>\n\n<p data-end="2353" data-start="2209">Winner&rsquo\;s Circle was designed to spark joy and connection\, and we&rsquo\;re excited to bring the Chamber community together in this unforgettable space.</p>\n\n<p data-end="2481" data-start="2355">Join us for great conversation\, light refreshments\, and a truly elevated networking experience.<br data-end="2453" data-start="2450" />\nAll Chamber members welcome!</p>\n\n<p data-end="2552" data-start="2483"><strong data-end="2552" data-start="2483">For more information\, contact Haley at <a class="cursor-pointer" data-end="2549" data-start="2524" rel="noopener">hhyde@longmontchamber.org</a>.</strong></p>\n\n<p data-end="896" data-start="854">&nbsp\;</p>\n
LOCATION:Winner's Circle
UID:e.3083.13296
SEQUENCE:3
DTSTAMP:20260421T111154Z
URL:https://members.longmontchamber.org/events/details/business-after-hours-winner-s-circle-13296
END:VEVENT

END:VCALENDAR
