BEGIN:VCALENDAR
VERSION:2.0
PRODID:-//ChamberMaster//Event Calendar 2.0//EN
METHOD:PUBLISH
X-PUBLISHED-TTL:P3D
REFRESH-INTERVAL:P3D
CALSCALE:GREGORIAN
BEGIN:VEVENT
DTSTART:20250411T133000Z
DTEND:20250411T150000Z
X-MICROSOFT-CDO-ALLDAYEVENT:FALSE
SUMMARY:Business Before Hours at Concept 32
DESCRIPTION:Business Before Hours is a morning networking opportunity that is free to all current Chamber Members! \n\nStart Your Day with Meaningful Connections\n\nBusiness Before Hours is the Chamber's premier morning networking event\, offering members an opportunity to connect in a professional yet relaxed setting over coffee and breakfast. Whether you're looking to expand your network\, share ideas\, or strengthen relationships with fellow business professionals in Longmont\, this event provides the perfect setting.\n\nAbout Our Host: Concept 32\n\nConcept 32 Custom Cabinet Studio is one of Longmont's premier vendors for full-service design solutions\, offering custom cabinetry for kitchens\, closets\, home offices\, and more. Their expert team works closely with homeowners\, designers\, and builders to craft high-end\, functional\, and sustainable spaces designed and built right here in town.\n\nThis event is a unique opportunity to tour both their showroom and their on-site manufacturing facility to see firsthand how Concept 32 brings their designs to life. From innovative storage solutions to luxury kitchen remodels\, their work exemplifies high-quality craftsmanship made locally.\n\nJoin us for this behind-the-scenes look at a thriving Longmont business while enjoying coffee\, breakfast\, and valuable networking.
X-ALT-DESC;FMTTYPE=text/html:<p><b>Business Before Hours is a morning networking opportunity that is free to all current Chamber Members!&nbsp\;</b></p>\n\n<p data-end="292" data-start="244"><strong data-end="290" data-start="244">Start Your Day with Meaningful Connections</strong></p>\n\n<p data-end="653" data-start="294">Business Before Hours is the Chamber&rsquo\;s premier morning networking event\, offering members an opportunity to connect in a professional yet relaxed setting over coffee and breakfast. Whether you&#39\;re looking to expand your network\, share ideas\, or strengthen relationships with fellow business professionals in Longmont\, this event provides the perfect setting.</p>\n\n<p data-end="687" data-start="655"><strong data-end="685" data-start="655">About Our Host: Concept 32</strong></p>\n\n<p data-end="1034" data-start="689">Concept 32 Custom Cabinet Studio is one of Longmont&rsquo\;s premier vendors for full-service design solutions\, offering custom cabinetry for kitchens\, closets\, home offices\, and more. Their expert team works closely with homeowners\, designers\, and builders to craft high-end\, functional\, and sustainable spaces&mdash\;designed and built right here in town.</p>\n\n<p data-end="1333" data-start="1036">This event is a unique opportunity to <strong data-end="1143" data-start="1074">tour both their showroom and their on-site manufacturing facility</strong> to see firsthand how Concept 32 brings their designs to life. From innovative storage solutions to luxury kitchen remodels\, their work exemplifies high-quality craftsmanship made locally.</p>\n\n<p data-end="1467" data-start="1335">Join us for this behind-the-scenes look at a thriving Longmont business while enjoying coffee\, breakfast\, and valuable networking.</p>\n
LOCATION:Concept 32
UID:e.3083.12683
SEQUENCE:3
DTSTAMP:20260421T142717Z
URL:https://members.longmontchamber.org/events/details/business-before-hours-at-concept-32-12683
END:VEVENT

END:VCALENDAR
