BEGIN:VCALENDAR
VERSION:2.0
PRODID:-//ChamberMaster//Event Calendar 2.0//EN
METHOD:PUBLISH
X-PUBLISHED-TTL:P3D
REFRESH-INTERVAL:P3D
CALSCALE:GREGORIAN
BEGIN:VEVENT
DTSTART:20250314T133000Z
DTEND:20250314T150000Z
X-MICROSOFT-CDO-ALLDAYEVENT:FALSE
SUMMARY:Business Before Hours at Elks Lodge #1055
DESCRIPTION:Business Before Hours is a morning networking opportunity that is free to all current Chamber Members! \n\nBusiness Before Hours @ Elks Lodge #1055\n\nDate: Friday\, March 14\n\nTime: 7:30-9:00 AM\n\nLocation: Elks Lodge #1055\, 306 Coffman St\, Longmont\, CO 80501\n\nFree for Chamber Members | Coffee & light breakfast provided\n\nWhat to Expect:\n\nStart your morning with a cup of coffee\, meaningful connections\, and a visit to one of Longmont's most historic landmarks Elks Lodge #1055. This month's Business Before Hours takes place in a stunning\, nearly century-old building that has been a pillar of community service since its founding in 1925. Meet fellow business professionals in a relaxed setting\, network with new and familiar faces\, and experience the charm of this historic space firsthand.\n\nA Look Inside Longmont's Elks Lodge\n\nDesigned by renowned Colorado architect Robert K. Fuller\, the Mediterranean-style Elks Lodge is one of Longmont's most architecturally significant buildings. Featuring a grand ballroom that accommodates up to 300 guests\, the lodge has been home to countless community gatherings\, celebrations\, and philanthropic initiatives. You do not have to be a member of this Elks Lodge to rent this space for your next big event! \n\nSupporting a Century of Community Impact\n\nThe Elks Lodge #1055 is more than just a meeting place it's a force for good in Longmont. The lodge supports initiatives such as:\n\n\n	Elks National Foundation scholarships for students\n	Veteran support programs and community aid\n	Youth outreach\, including drug awareness education and sports programs\n\n\nAs the building approaches its 100-year milestone in 2025\, the Lodge is currently fundraising for renovations and preservation efforts to ensure this beloved space continues serving the community for generations to come. Learn how you can get involved in supporting this important restoration project.
X-ALT-DESC;FMTTYPE=text/html:<p><b>Business Before Hours is a morning networking opportunity that is free to all current Chamber Members!&nbsp\;</b></p>\n\n<h3 data-end="101" data-start="51"><strong data-end="99" data-start="55">Business Before Hours @ Elks Lodge #1055</strong></h3>\n\n<p data-end="291" data-start="102"><strong data-end="111" data-start="102">Date:</strong> Friday\, March 14<br data-end="131" data-start="128" />\n<strong data-end="140" data-start="131">Time:</strong> 7:30-9:00 AM<br data-end="156" data-start="153" />\n<strong data-end="169" data-start="156">Location:</strong> Elks Lodge #1055\, 306 Coffman St\, Longmont\, CO 80501<br data-end="225" data-start="222" />\n<strong data-end="253" data-start="225">Free for Chamber Members</strong> | Coffee &amp\; light breakfast provided</p>\n\n<p data-end="771" data-start="293"><strong data-end="312" data-start="293">What to Expect:</strong><br data-end="315" data-start="312" />\nStart your morning with a cup of coffee\, meaningful connections\, and a visit to one of Longmont&rsquo\;s most historic landmarks&mdash\;Elks Lodge #1055. This month&rsquo\;s Business Before Hours takes place in a stunning\, nearly century-old building that has been a pillar of community service since its founding in 1925. Meet fellow business professionals in a relaxed setting\, network with new and familiar faces\, and experience the charm of this historic space firsthand.</p>\n\n<p data-end="1141" data-start="773"><strong data-end="812" data-start="773">A Look Inside Longmont&rsquo\;s Elks Lodge</strong><br data-end="815" data-start="812" />\nDesigned by renowned Colorado architect Robert K. Fuller\, the Mediterranean-style Elks Lodge is one of Longmont&rsquo\;s most architecturally significant buildings. Featuring a grand ballroom that accommodates up to 300 guests\, the lodge has been home to countless community gatherings\, celebrations\, and philanthropic initiatives. You do not have to be a member of this Elks Lodge to rent this space for your next big event!&nbsp\;</p>\n\n<p data-end="1321" data-start="1143"><strong data-end="1187" data-start="1143">Supporting a Century of Community Impact</strong><br data-end="1190" data-start="1187" />\nThe Elks Lodge #1055 is more than just a meeting place&mdash\;it&rsquo\;s a force for good in Longmont. The lodge supports initiatives such as:</p>\n\n<ul data-end="1498" data-start="1322">\n	<li data-end="1376" data-start="1322">Elks National Foundation scholarships for students</li>\n	<li data-end="1423" data-start="1377">Veteran support programs and community aid</li>\n	<li data-end="1498" data-start="1424">Youth outreach\, including drug awareness education and sports programs</li>\n</ul>\n\n<p data-end="1803" data-start="1500">As the building approaches its 100-year milestone in 2025\, the Lodge is currently fundraising for renovations and preservation efforts to ensure this beloved space continues serving the community for generations to come. Learn how you can get involved in supporting this important restoration project.</p>\n
LOCATION:Longmont Elks Lodge #1055
UID:e.3083.12142
SEQUENCE:3
DTSTAMP:20260421T173145Z
URL:https://members.longmontchamber.org/events/details/business-before-hours-at-elks-lodge-1055-12142
END:VEVENT

END:VCALENDAR
