BEGIN:VCALENDAR
VERSION:2.0
PRODID:-//ChamberMaster//Event Calendar 2.0//EN
METHOD:PUBLISH
X-PUBLISHED-TTL:P3D
REFRESH-INTERVAL:P3D
CALSCALE:GREGORIAN
BEGIN:VEVENT
DTSTART:20241011T133000Z
DTEND:20241011T150000Z
X-MICROSOFT-CDO-ALLDAYEVENT:FALSE
SUMMARY:Business Before Hours at Firehouse Art Center
DESCRIPTION:For you early risers\, here is your opportunity to network before work and enjoy a delicious breakfast while visiting a variety of businesses throughout Longmont.\n\n\n\nAbout Firehouse Art Center\n\nThe Firehouse Art Center inspires cultural awareness and human connection by providing\n\nlife enhancing experiences through art exhibitions\, art education and cultural events.\n\n\n\nThe Firehouse is a non-profit art center committed to exhibiting thought provoking art created by local\, regional and national artists. Through our no fee admission gallery and our outreach art classes taught at no cost to under resourced areas of the community\, we strive to bring the healing nature of art to all.\n\n\n\nThe Firehouse Art Center is Longmont's leading contemporary art center featuring national and local artists with over a dozen exhibitions a year. A cornerstone of the Longmont Creative District\, we offer educational programs\, events and membership programs to support creativity for all. Our goal is to raise cultural awareness and understanding of the arts in the regional community.
X-ALT-DESC;FMTTYPE=text/html:<br />\n<span style="font-size:16px\;">For you early risers\, here is your opportunity to network before work and enjoy a delicious breakfast while visiting a variety of businesses throughout Longmont.<br />\n<br />\n<span style="font-size:12px\;"><strong>About Firehouse Art Center</strong></span></span><br />\nThe Firehouse Art Center inspires cultural awareness and human connection by providing<br />\nlife enhancing experiences through art exhibitions\, art education and cultural events.<br />\n<br />\nThe Firehouse is a non-profit art center committed to exhibiting thought provoking art created by local\, regional and national artists. Through our no fee admission gallery and our outreach art classes taught at no cost to under resourced areas of the community\, we strive to bring the healing nature of art to all.<br />\n<br />\nThe Firehouse Art Center is Longmont&rsquo\;s leading contemporary art center featuring national and local artists with over a dozen exhibitions a year. A cornerstone of the Longmont Creative District\, we offer educational programs\, events and membership programs to support creativity for all. Our goal is to raise cultural awareness and understanding of the arts in the regional community.<br />\n&nbsp\;
LOCATION:
UID:e.3083.10008
SEQUENCE:3
DTSTAMP:20260421T235657Z
URL:https://members.longmontchamber.org/events/details/business-before-hours-at-firehouse-art-center-10008
END:VEVENT

END:VCALENDAR
