BEGIN:VCALENDAR
VERSION:2.0
PRODID:-//ChamberMaster//Event Calendar 2.0//EN
METHOD:PUBLISH
X-PUBLISHED-TTL:P3D
REFRESH-INTERVAL:P3D
CALSCALE:GREGORIAN
BEGIN:VEVENT
DTSTART:20250117T143000Z
DTEND:20250117T160000Z
X-MICROSOFT-CDO-ALLDAYEVENT:FALSE
SUMMARY:Business Before Hours at Longmont Climbing Collective
DESCRIPTION:For you early risers\, here is your opportunity to network before work and enjoy a delicious breakfast while visiting a variety of businesses throughout Longmont.\n\n\n\nAccess to the climbing wall will be offered during this event! Chamber members get to enjoy the gym for free! Wear loose fitting clothing that you're comfortable performing physical activity in. You can rent any needed equipment (shoes\, harness\, etc.) or bring your own!\n\n\nAbout Longmont Climbing Collective\n\nClimb indoors\, work out\, or take a yoga class at Longmont's only indoor bouldering gym. We've got over 15\,000 square feet of indoor space with plenty of room for climbers of all ages and abilities. Longmont Climbing Collective is the perfect place to spend an afternoon with family or friends. Plus\, we now have a covered outside patio and a taproom on the mezzanine to hang out for evening happy hours. Come by and check us out! Are you ready to climb outside\, but need a pad to keep you safe? We have rentals! Whether you're new to climbing outside\, visiting the area\, or just want some extra foam to feel a little more confident on your project\, we've got you covered.\n\n\nFebruary 22nd & 23rd\n\nTwo Events - One Weekend - One Ticket!\n\nIce Climbing World Cup\n\nApproximately 150 athletes from over 25 member associations are set to contest the coveted UIAA Ice Climbing World Cup lead and speed titles. Six venues on three different continents will offer unique ice towers\, exciting routes\, and supreme technical challenges.\n\nWinterFest\n\nLongmont's own Climbing Collective has combined the fifth stop of the World Cup tour with Colorado's premier winter festival featuring local food\, beer\, vendor village\, and a kid's zone.\n\nGeneral Admission tickets are free\n\nVIP tickets available for the ultimate WinterFest experience.
X-ALT-DESC;FMTTYPE=text/html:<p><strong>For you early risers\, here is your opportunity to network before work and enjoy a delicious breakfast while visiting a variety of businesses throughout Longmont.</strong><br />\n<br />\n<span style="font-size:18px\;"><span style="color:#0000CD\;">Access to the climbing wall will be offered during this event! Chamber members get to enjoy the gym for&nbsp\;<strong>free!</strong>&nbsp\;Wear loose fitting clothing that you&#39\;re comfortable performing physical activity in. You can rent any needed equipment (shoes\, harness\, etc.) or bring your own!</span></span></p>\n\n<hr />\n<p><strong>About Longmont Climbing Collective</strong><br />\nClimb indoors\, work out\, or take a yoga class at Longmont&#39\;s only indoor bouldering gym. We&#39\;ve got over 15\,000 square feet of indoor space with plenty of room for climbers of all ages and abilities. Longmont Climbing Collective is the perfect place to spend an afternoon with family or friends. Plus\, we now have a covered outside patio and a taproom on the mezzanine to hang out for evening happy hours. Come by and check us out! Are you ready to climb outside\, but need a pad to keep you safe? We have rentals! Whether you&#39\;re new to climbing outside\, visiting the area\, or just want some extra foam to feel a little more confident on your project\, we&#39\;ve got you covered.</p>\n\n<hr />\n<p><strong>February 22nd &amp\; 23rd<br />\nTwo Events - One Weekend - One Ticket!</strong></p>\n\n<p><strong>Ice Climbing World Cup</strong><br />\nApproximately 150 athletes from over 25 member associations are set to contest the coveted UIAA Ice Climbing World Cup lead and speed titles. Six venues on three different continents will offer unique ice towers\, exciting routes\, and supreme technical challenges.</p>\n\n<p><strong>WinterFest</strong><br />\nLongmont&rsquo\;s own Climbing Collective has combined the fifth stop of the World Cup tour with Colorado&#39\;s premier winter festival featuring local food\, beer\, vendor village\, and a kid&rsquo\;s zone.</p>\n\n<p><a href="https://www.eventbrite.com/e/longmont-winterfest-uiaa-ice-climbing-world-cup-tickets-1039042844117?aff=oddtdtcreator"><strong>General Admission tickets are free</strong></a></p>\n\n<p><a href="https://www.eventbrite.com/e/longmont-winterfest-uiaa-ice-climbing-world-cup-tickets-1039042844117?aff=oddtdtcreator"><strong>VIP tickets available for the ultimate WinterFest experience.</strong></a></p>\n
LOCATION:
UID:e.3083.10719
SEQUENCE:3
DTSTAMP:20260421T190253Z
URL:https://members.longmontchamber.org/events/details/business-before-hours-at-longmont-climbing-collective-10719
END:VEVENT

END:VCALENDAR
