BEGIN:VCALENDAR
VERSION:2.0
PRODID:-//ChamberMaster//Event Calendar 2.0//EN
METHOD:PUBLISH
X-PUBLISHED-TTL:P3D
REFRESH-INTERVAL:P3D
CALSCALE:GREGORIAN
BEGIN:VEVENT
DTSTART:20250214T143000Z
DTEND:20250214T160000Z
X-MICROSOFT-CDO-ALLDAYEVENT:FALSE
SUMMARY:Business Before Hours at Sam's Club Longmont
DESCRIPTION:Happy Valentine's Day\, Chamber Community!   \n\nRoses are red\, violets are blue\, networking is sweeter when it includes you! Join us on Valentine's Day for a special Business Before Hours event at Sam's Club Longmont\, where love (and networking) is in the air!\n\nEnjoy a quiet morning before the doors officially open no crowds\, no rush\, just meaningful conversations with Longmont's business community. And for a little extra fun\, we're hosting a Valentine's Scavenger Hunt!\n\n  Here's how it works:\n\nValentines and sweet treats will be hidden throughout the club\, waiting to be found. The person who collects the most valentines wins a special prize! Game on!\n\nAbout Sam's Club Longmont\n\nSam's Club aims to be the most valuable membership for our members. From entrepreneurs to families\, we offer solutions for everyone's needs. With nearly 600 locations across the U.S. and Puerto Rico\, Sam's Club delivers quality products and unmatched value.\n\nWhether it's free shipping\, early shopping\, or savings on medications and fuel\, a Sam's Club membership is designed to help you save time and money while living better.\n\nDon't miss this chance to kick off your Valentine's Day with connection\, fun\, and a little friendly competition. See you there!
X-ALT-DESC;FMTTYPE=text/html:<p><strong>Happy Valentine&rsquo\;s Day\, Chamber Community! &#10084\;&#65039\;</strong></p>\n\n<p>Roses are red\, violets are blue\, networking is sweeter when it includes you! Join us on Valentine&rsquo\;s Day for a special <strong>Business Before Hours</strong> event at Sam&rsquo\;s Club Longmont\, where love (and networking) is in the air!</p>\n\n<p>Enjoy a quiet morning before the doors officially open&mdash\;no crowds\, no rush\, just meaningful conversations with Longmont&rsquo\;s business community. And for a little extra fun\, we&rsquo\;re hosting a <strong>Valentine&rsquo\;s Scavenger Hunt!</strong></p>\n\n<p>&#128140\; <strong>Here&rsquo\;s how it works:</strong><br />\nValentines and sweet treats will be hidden throughout the club\, waiting to be found. The person who collects the most valentines wins a special prize! Game on!</p>\n\n<p><strong>About Sam&rsquo\;s Club Longmont</strong><br />\nSam&rsquo\;s Club aims to be the most valuable membership for our members. From entrepreneurs to families\, we offer solutions for everyone&rsquo\;s needs. With nearly 600 locations across the U.S. and Puerto Rico\, Sam&rsquo\;s Club delivers quality products and unmatched value.</p>\n\n<p>Whether it&rsquo\;s free shipping\, early shopping\, or savings on medications and fuel\, a Sam&rsquo\;s Club membership is designed to help you save time and money while living better.</p>\n\n<p>Don&rsquo\;t miss this chance to kick off your Valentine&rsquo\;s Day with connection\, fun\, and a little friendly competition. See you there!</p>\n
LOCATION:
UID:e.3083.10745
SEQUENCE:3
DTSTAMP:20260421T174758Z
URL:https://members.longmontchamber.org/events/details/business-before-hours-at-sam-s-club-longmont-10745
END:VEVENT

END:VCALENDAR
