BEGIN:VCALENDAR
VERSION:2.0
PRODID:-//ChamberMaster//Event Calendar 2.0//EN
METHOD:PUBLISH
X-PUBLISHED-TTL:P3D
REFRESH-INTERVAL:P3D
CALSCALE:GREGORIAN
BEGIN:VEVENT
DTSTART:20250711T133000Z
DTEND:20250711T150000Z
X-MICROSOFT-CDO-ALLDAYEVENT:FALSE
SUMMARY:Business Before Hours: Axe Me Out
DESCRIPTION:Business Before Hours is a morning networking opportunity that is free to all current Chamber Members! Start Your Day with Meaningful Connections\n\n\n\nBusiness Before Hours is the Chamber's premier morning networking event\, offering members an opportunity to connect in a professional yet relaxed setting over coffee and breakfast. Whether you're looking to expand your network\, share ideas\, or strengthen relationships with fellow business professionals in Longmont\, this event provides the perfect setting.\n\n\n\nThis Month's Host: Axe Me Out!\n\n\n\n\n\nStep into a morning unlike any other at Longmont's ultimate venue for fun\, energy\, and connection! Whether you're curious about axe throwing\, eager to test your skills with ninja stars\, or just want to let loose in a fully equipped rage room this Business Before Hours event has something for everyone.\n\nUnleashed isn't your average family fun center it's where adrenaline meets connection. Their space features family-friendly options (including kid-safe ninja stars and mini sledgehammers)\, a full arcade with complimentary games for participants\, and a bar area with big screens for catching the latest Nuggets\, Avs\, Broncos or yes\, even Rockies action.\n\nWant the party to come to you? Unleashed also offers Longmont's only mobile axe throwing trailer\, perfect for special events and private gatherings.\n\nCome network with fellow business leaders\, explore this one-of-a-kind venue\, and enjoy a morning packed with energy\, laughter\, and a few flying axes (safely\, of course).\n\nDon't miss this chance to connect\, caffeinate\, and unleash your inner Viking!
X-ALT-DESC;FMTTYPE=text/html:<p><b>Business Before Hours is a morning networking opportunity that is free to all current Chamber Members!&nbsp\;</b><strong data-end="290" data-start="244">Start Your Day with Meaningful Connections</strong><br />\n<br />\nBusiness Before Hours is the Chamber&rsquo\;s premier morning networking event\, offering members an opportunity to connect in a professional yet relaxed setting over coffee and breakfast. Whether you&#39\;re looking to expand your network\, share ideas\, or strengthen relationships with fellow business professionals in Longmont\, this event provides the perfect setting.</p>\n\n<p data-end="292" data-start="244"><br />\n<strong data-end="290" data-start="244">This Month&#39\;s Host: Axe Me Out!</strong><br />\n<br />\n<!--StartFragment--></p>\n\n<p data-end="714" data-start="412">Step into a morning unlike any other at Longmont&rsquo\;s ultimate venue for fun\, energy\, and connection! Whether you&rsquo\;re curious about axe throwing\, eager to test your skills with ninja stars\, or just want to let loose in a fully equipped rage room&mdash\;this Business Before Hours event has something for everyone.</p>\n\n<p data-end="1068" data-start="716">Unleashed isn&rsquo\;t your average family fun center&mdash\;it&rsquo\;s where adrenaline meets connection. Their space features family-friendly options (including kid-safe ninja stars and mini sledgehammers)\, a full arcade with complimentary games for participants\, and a bar area with big screens for catching the latest Nuggets\, Avs\, Broncos&mdash\;or yes\, even Rockies&mdash\;action.</p>\n\n<p data-end="1222" data-start="1070">Want the party to come to you? Unleashed also offers Longmont&rsquo\;s only <strong data-end="1170" data-start="1139">mobile axe throwing trailer</strong>\, perfect for special events and private gatherings.</p>\n\n<p data-end="1393" data-start="1224">Come network with fellow business leaders\, explore this one-of-a-kind venue\, and enjoy a morning packed with energy\, laughter\, and a few flying axes (safely\, of course).</p>\n\n<p data-end="1476" data-start="1395"><strong data-end="1476" data-start="1395">Don&rsquo\;t miss this chance to connect\, caffeinate\, and unleash your inner Viking!</strong></p>\n\n<p data-end="292" data-start="244"><!--EndFragment--></p>\n
LOCATION:Axe Me Out
UID:e.3083.13289
SEQUENCE:3
DTSTAMP:20260421T093741Z
URL:https://members.longmontchamber.org/events/details/business-before-hours-axe-me-out-13289
END:VEVENT

END:VCALENDAR
