BEGIN:VCALENDAR
VERSION:2.0
PRODID:-//ChamberMaster//Event Calendar 2.0//EN
METHOD:PUBLISH
X-PUBLISHED-TTL:P3D
REFRESH-INTERVAL:P3D
CALSCALE:GREGORIAN
BEGIN:VEVENT
DTSTART:20251010T133000Z
DTEND:20251010T150000Z
X-MICROSOFT-CDO-ALLDAYEVENT:FALSE
SUMMARY:Business Before Hours: Firehouse Art Center
DESCRIPTION:For you early risers\, here is your opportunity to network before work and enjoy a delicious breakfast while visiting a variety of businesses throughout Longmont. Guests will also receive a first early-access look at the Firehouse Art Center's D a de los Muertos exhibit\, one of Longmont's most cherished cultural traditions.\n\n\n\n[Click Here to read more about Firehouse's Dia de los Muertos Exhibit & Programming!]\n\nAbout Firehouse Art Center\n\nThe Firehouse Art Center inspires cultural awareness and human connection by providing life-enhancing experiences through art exhibitions\, art education\, and cultural events.\n\nThe Firehouse is a non-profit art center committed to exhibiting thought-provoking art created by local\, regional\, and national artists. Through our no-fee admission gallery and outreach art classes taught at no cost to under-resourced areas of the community\, we strive to bring the healing nature of art to all.\n\nThe Firehouse Art Center is Longmont's leading contemporary art center featuring national and local artists with over a dozen exhibitions a year. A cornerstone of the Longmont Creative District\, we offer educational programs\, events\, and membership programs to support creativity for all. Our goal is to raise cultural awareness and understanding of the arts in the regional community.
X-ALT-DESC;FMTTYPE=text/html:<p data-end="497" data-start="167">For you early risers\, here is your opportunity to network before work and enjoy a delicious breakfast while visiting a variety of businesses throughout Longmont. Guests will also receive a&nbsp\;<strong data-end="440" data-start="356">first early-access look at the Firehouse Art Center&rsquo\;s D&iacute\;a de los Muertos exhibit</strong>\, one of Longmont&rsquo\;s most cherished cultural traditions.<br />\n<br />\n<a href="https://firehouseart.org/catrinaball/">[Click Here to read more about Firehouse&#39\;s Dia de los Muertos Exhibit &amp\; Programming!]</a></p>\n\n<p data-end="708" data-start="499"><strong data-end="529" data-start="499">About Firehouse Art Center</strong><br data-end="532" data-start="529" />\nThe Firehouse Art Center inspires cultural awareness and human connection by providing life-enhancing experiences through art exhibitions\, art education\, and cultural events.</p>\n\n<p data-end="1024" data-start="710">The Firehouse is a non-profit art center committed to exhibiting thought-provoking art created by local\, regional\, and national artists. Through our no-fee admission gallery and outreach art classes taught at no cost to under-resourced areas of the community\, we strive to bring the healing nature of art to all.</p>\n\n<p data-end="1413" data-start="1026">The Firehouse Art Center is Longmont&rsquo\;s leading contemporary art center featuring national and local artists with over a dozen exhibitions a year. A cornerstone of the Longmont Creative District\, we offer educational programs\, events\, and membership programs to support creativity for all. Our goal is to raise cultural awareness and understanding of the arts in the regional community.</p>\n
LOCATION:Firehouse Art Center
UID:e.3083.13292
SEQUENCE:3
DTSTAMP:20260421T052155Z
URL:https://members.longmontchamber.org/events/details/business-before-hours-firehouse-art-center-13292
END:VEVENT

END:VCALENDAR
