BEGIN:VCALENDAR
VERSION:2.0
PRODID:-//ChamberMaster//Event Calendar 2.0//EN
METHOD:PUBLISH
X-PUBLISHED-TTL:P3D
REFRESH-INTERVAL:P3D
CALSCALE:GREGORIAN
BEGIN:VEVENT
DTSTART:20250509T133000Z
DTEND:20250509T150000Z
X-MICROSOFT-CDO-ALLDAYEVENT:FALSE
SUMMARY:Business Before Hours: Ironwood Bar
DESCRIPTION:Business Before Hours is a morning networking opportunity that is free to all current Chamber Members! \n\nStart Your Day with Meaningful Connections\n\nBusiness Before Hours is the Chamber's premier morning networking event\, offering members an opportunity to connect in a professional yet relaxed setting over coffee and breakfast. Whether you're looking to expand your network\, share ideas\, or strengthen relationships with fellow business professionals in Longmont\, this event provides the perfect setting.\n\nJoin us for Business Before Hours at one of Longmont's newest and most talked-about venues: Ironwood Bar. Whether you've been curious to check it out or you're already a fan\, this is the perfect excuse to experience Longmont's premier new sports bar and golf hangout bright and early\, coffee in hand.\n\nWe're swinging straight into a week of golf programming:\n\n   Friday morning: Business Before Hours with light breakfast\, coffee\, and early networking.\n\n      Monday morning: The Longmont Chamber Golf Tournament tees off!\n\nWhat to expect on Friday:\n\n\n	\n	Hot coffee & light snacks in a sleek\, modern sports bar\n	\n	\n	Full access to Ironwood's state-of-the-art golf simulators get in a few practice swings before the real thing\n	\n	\n	Networking with fellow members in one of Longmont's freshest venues\n	\n	\n	A behind-the-scenes look at this new hotspot for league nights\, team hangs\, and community events
X-ALT-DESC;FMTTYPE=text/html:<p><b>Business Before Hours is a morning networking opportunity that is free to all current Chamber Members!&nbsp\;</b></p>\n\n<p data-end="292" data-start="244"><strong data-end="290" data-start="244">Start Your Day with Meaningful Connections</strong></p>\n\n<p data-end="653" data-start="294">Business Before Hours is the Chamber&rsquo\;s premier morning networking event\, offering members an opportunity to connect in a professional yet relaxed setting over coffee and breakfast. Whether you&#39\;re looking to expand your network\, share ideas\, or strengthen relationships with fellow business professionals in Longmont\, this event provides the perfect setting.</p>\n\n<p data-end="739" data-start="419">Join us for <em data-end="454" data-start="431">Business Before Hours</em> at one of Longmont&rsquo\;s newest and most talked-about venues: <strong data-end="537" data-start="513">Ironwood Bar.&nbsp\;</strong>Whether you&rsquo\;ve been curious to check it out or you&#39\;re already a fan\, this is the perfect excuse to experience <strong data-end="703" data-start="649">Longmont&#39\;s premier new sports bar and golf hangout</strong>&mdash\;bright and early\, coffee in hand.</p>\n\n<p data-end="974" data-start="741">We&#39\;re <em data-end="757" data-start="747">swinging</em> straight into a week of golf programming:<br data-end="802" data-start="799" />\n&#9749\;&#65039\; <strong data-end="824" data-start="805">Friday morning:</strong> Business Before Hours with light breakfast\, coffee\, and early networking.<br data-end="901" data-start="898" />\n&#127948\;&#65039\;&zwj\;&#9794\;&#65039\; <strong data-end="927" data-start="908">Monday morning:</strong> The Longmont Chamber Golf Tournament tees off!</p>\n\n<p data-end="1005" data-start="976"><strong data-end="1005" data-start="976">What to expect on Friday:</strong></p>\n\n<ul data-end="1357" data-start="1006">\n	<li data-end="1068" data-start="1006">\n	<p data-end="1068" data-start="1008">Hot coffee &amp\; light snacks in a sleek\, modern sports bar</p>\n	</li>\n	<li data-end="1186" data-start="1069">\n	<p data-end="1186" data-start="1071">Full access to <strong data-end="1133" data-start="1086">Ironwood&rsquo\;s state-of-the-art golf simulators</strong>&mdash\;get in a few practice swings before the real thing</p>\n	</li>\n	<li data-end="1258" data-start="1187">\n	<p data-end="1258" data-start="1189">Networking with fellow members in one of Longmont&rsquo\;s freshest venues</p>\n	</li>\n	<li data-end="1357" data-start="1259">\n	<p data-end="1357" data-start="1261">A behind-the-scenes look at this new hotspot for league nights\, team hangs\, and community events</p>\n	</li>\n</ul>\n
LOCATION:Ironwood Bar
UID:e.3083.13287
SEQUENCE:3
DTSTAMP:20260421T125327Z
URL:https://members.longmontchamber.org/events/details/business-before-hours-ironwood-bar-13287
END:VEVENT

END:VCALENDAR
