BEGIN:VCALENDAR
VERSION:2.0
PRODID:-//ChamberMaster//Event Calendar 2.0//EN
METHOD:PUBLISH
X-PUBLISHED-TTL:P3D
REFRESH-INTERVAL:P3D
CALSCALE:GREGORIAN
BEGIN:VEVENT
DTSTART:20250913T150000Z
DTEND:20250913T170000Z
X-MICROSOFT-CDO-ALLDAYEVENT:FALSE
SUMMARY:Business Before Hours: Longmont Farmers Market
DESCRIPTION:Business Before Hours is a morning networking opportunity that is free to all current Chamber Members! Start Your Day with Meaningful Connections\n\n\n\nBusiness Before Hours is the Chamber's premier morning networking event\, offering members an opportunity to connect in a professional yet relaxed setting over coffee and breakfast. Whether you're looking to expand your network\, share ideas\, or strengthen relationships with fellow business professionals in Longmont\, this event provides the perfect setting.\n\nThis Month's Host: Longmont Farmers Market\n\nWake up and smell the fresh produce! Join us for a vibrant morning at the Longmont Farmers Market\, where community roots run deep and local connections thrive.\n\nArrival Instructions:\n\nPlease park in the Boulder County Fairgrounds parking lot. From there\, walk into the event area and look for the Chamber tent to check in and grab your coffee!\n\nExperience the charm of the market before the crowds\, with coffee and breakfast bites made from fresh\, local ingredients. You'll get a behind-the-scenes look at how the market supports local farmers\, food makers\, and sustainable agriculture in our region.\n\nThis isn't just a place to shop it's a community hub for health\, sustainability\, and connection. Whether you're passionate about local food systems\, curious about vendor opportunities\, or simply looking to start your day with like-minded professionals\, this Business Before Hours event will feed your soul and your network.\n\nDon't miss this chance to connect\, caffeinate\, and celebrate Longmont's incredible local food scene!
X-ALT-DESC;FMTTYPE=text/html:<p><b>Business Before Hours is a morning networking opportunity that is free to all current Chamber Members!&nbsp\;</b><strong data-end="290" data-start="244">Start Your Day with Meaningful Connections</strong><br />\n<br />\nBusiness Before Hours is the Chamber&rsquo\;s premier morning networking event\, offering members an opportunity to connect in a professional yet relaxed setting over coffee and breakfast. Whether you&#39\;re looking to expand your network\, share ideas\, or strengthen relationships with fellow business professionals in Longmont\, this event provides the perfect setting.</p>\n\n<p data-end="132" data-start="80"><strong data-end="132" data-start="80">This Month&#39\;s Host: Longmont Farmers Market</strong></p>\n\n<p data-end="299" data-start="134">Wake up and smell the fresh produce! Join us for a vibrant morning at the Longmont Farmers Market\, where community roots run deep and local connections thrive.</p>\n\n<p data-end="496" data-start="301"><strong data-end="326" data-start="301">Arrival Instructions:</strong><br data-end="329" data-start="326" />\nPlease park in the <strong data-end="390" data-start="348">Boulder County Fairgrounds parking lot</strong>. From there\, walk into the event area and <strong data-end="462" data-start="433">look for the Chamber tent</strong> to check in and grab your coffee!</p>\n\n<p data-end="753" data-start="498">Experience the charm of the market before the crowds\, with coffee and breakfast bites made from fresh\, local ingredients. You&rsquo\;ll get a behind-the-scenes look at how the market supports local farmers\, food makers\, and sustainable agriculture in our region.</p>\n\n<p data-end="1078" data-start="755">This isn&rsquo\;t just a place to shop&mdash\;it&rsquo\;s a community hub for health\, sustainability\, and connection. Whether you&rsquo\;re passionate about local food systems\, curious about vendor opportunities\, or simply looking to start your day with like-minded professionals\, this Business Before Hours event will feed your soul and your network.</p>\n\n<p data-end="1180" data-is-last-node="" data-is-only-node="" data-start="1080"><strong>Don&rsquo\;t miss this chance to connect\, caffeinate\, and celebrate Longmont&rsquo\;s incredible local food scene!</strong></p>\n\n<p data-end="292" data-start="244"><!--EndFragment--></p>\n
LOCATION:Boulder County Fairgrounds
UID:e.3083.14207
SEQUENCE:3
DTSTAMP:20260421T064239Z
URL:https://members.longmontchamber.org/events/details/business-before-hours-longmont-farmers-market-14207
END:VEVENT

END:VCALENDAR
