BEGIN:VCALENDAR
VERSION:2.0
PRODID:-//ChamberMaster//Event Calendar 2.0//EN
METHOD:PUBLISH
X-PUBLISHED-TTL:P3D
REFRESH-INTERVAL:P3D
CALSCALE:GREGORIAN
BEGIN:VEVENT
DTSTART:20251114T143000Z
DTEND:20251114T160000Z
X-MICROSOFT-CDO-ALLDAYEVENT:FALSE
SUMMARY:Business Before Hours: SouthState Bank
DESCRIPTION:Business Before Hours is a morning networking opportunity that is free to all current Chamber Members! \n\nStart Your Day with Meaningful Connections\n\nBusiness Before Hours is the Chamber's premier morning networking event\, offering members an opportunity to connect in a professional yet relaxed setting over coffee and breakfast. Whether you're looking to expand your network\, share ideas\, or strengthen relationships with fellow business professionals in Longmont\, this event provides the perfect setting.\n\n\n\nThis Month's Host: SouthState Bank! \n\n\n\nOur Company was founded on the principles of providing innovative\, personalized banking services for all\, making our communities a better place to live\, and supporting our knowledgeable\, experienced bankers. For decades\, our bankers have been trusted advocates\, helping customers achieve personal and business goals. At SouthState we offer innovative banking solutions to support individuals\, businesses\, and communities throughout their financial journey\, with the expertise and tools needed to move forward.
X-ALT-DESC;FMTTYPE=text/html:<p><span style="font-size:18px\;"><b>Business Before Hours is a morning networking opportunity that is free to all current Chamber Members!&nbsp\;</b></span></p>\n\n<p data-end="292" data-start="244"><span style="font-size:18px\;"><strong data-end="290" data-start="244">Start Your Day with Meaningful Connections</strong></span></p>\n\n<p data-end="653" data-start="294"><span style="font-size:18px\;">Business Before Hours is the Chamber&rsquo\;s premier morning networking event\, offering members an opportunity to connect in a professional yet relaxed setting over coffee and breakfast. Whether you&#39\;re looking to expand your network\, share ideas\, or strengthen relationships with fellow business professionals in Longmont\, this event provides the perfect setting.<br />\n<br />\n<b>This Month&#39\;s Host: SouthState Bank!&nbsp\;</b><br />\n<br />\n<!--StartFragment--><span data-olk-copy-source="MessageBody" style="color: black\; font-family: Aptos\, Aptos_EmbeddedFont\, Aptos_MSFontService\, Calibri\, Helvetica\, sans-serif\;">Our Company was founded on the principles of providing innovative\, personalized banking services for all\, making our communities a better place to live\, and supporting our knowledgeable\, experienced bankers. For decades\, our bankers have been trusted advocates\, helping customers achieve personal and business goals. At SouthState we offer innovative banking solutions to support individuals\, businesses\, and communities throughout their financial journey\, with the expertise and tools needed to move forward.</span></span><!--EndFragment--></p>\n
LOCATION:SouthState Bank
UID:e.3083.13293
SEQUENCE:3
DTSTAMP:20260421T045902Z
URL:https://members.longmontchamber.org/events/details/business-before-hours-southstate-bank-13293
END:VEVENT

END:VCALENDAR
