BEGIN:VCALENDAR
VERSION:2.0
PRODID:-//ChamberMaster//Event Calendar 2.0//EN
METHOD:PUBLISH
X-PUBLISHED-TTL:P3D
REFRESH-INTERVAL:P3D
CALSCALE:GREGORIAN
BEGIN:VEVENT
DTSTART:20260325T220000Z
DTEND:20260325T230000Z
X-MICROSOFT-CDO-ALLDAYEVENT:FALSE
SUMMARY:Business Builders\, Networking Group
DESCRIPTION:Business Builders is a Networking Group of the Longmont Chamber and is formatted as a Business Connection Group. The Business Builders Networking Group is based on friendship and the appreciation of each other's businesses. Most members have well established businesses and are able to share valuable business experience. Prominent Longmont professionals routinely visit the group to share their expertise.\n\nNetworking Groups are a great way to deeply connect with other local business leaders\, share ideas and organically grow your business through relationships.\n\nOne representative from each industry may attend a Networking Group. Please contact the facilitators before attending.
X-ALT-DESC;FMTTYPE=text/html:<p>Business Builders is a Networking Group of the Longmont Chamber and is formatted as a Business Connection Group. The Business Builders Networking Group is based on friendship and the appreciation of each other&rsquo\;s businesses. Most members have well established businesses and are able to share valuable business experience. Prominent Longmont professionals routinely visit the group to share their expertise.</p>\n\n<p style="line-height: 1.7em\;">Networking Groups are a great way to deeply connect with other local business leaders\, share&nbsp\;ideas and organically grow your business through relationships.</p>\n\n<p style="line-height: 1.7em\;">One representative from each industry may attend a Networking Group. Please contact the facilitators before attending.</p>\n
LOCATION:Please contact facilitator for location.
UID:e.3083.5190
SEQUENCE:3
DTSTAMP:20260420T224958Z
URL:https://members.longmontchamber.org/events/details/business-builders-03-25-2026-5190
END:VEVENT

END:VCALENDAR
