BEGIN:VCALENDAR
VERSION:2.0
PRODID:-//ChamberMaster//Event Calendar 2.0//EN
METHOD:PUBLISH
X-PUBLISHED-TTL:P3D
REFRESH-INTERVAL:P3D
CALSCALE:GREGORIAN
BEGIN:VEVENT
DTSTART:20250411T150000Z
DTEND:20250411T160000Z
X-MICROSOFT-CDO-ALLDAYEVENT:FALSE
SUMMARY:Business Content Creators\, Networking Group
DESCRIPTION:As a business owner\, you're facing a real challenge - creating content that actually connects with customers and grows your business. The endless content treadmill feels overwhelming\, and your ideal customers seem harder to reach every day.  You don't have to figure this out alone.  Join us and transform from content-confused to confidently connecting with customers who are eager to work with you. \n\n\n\nAt the Business Content Creators Group\, you'll find:\n\n\n\nA supportive community of fellow business owners who understand your struggles\n\n\n\nMastermind sessions where collective wisdom helps solve your specific content challenges\n\n\n\nHonest\, helpful feedback on your content before you publish it to the world\n\n\n\nSimple\, proven frameworks that make content creation less overwhelming and more effective\n\n\n\nAll Longmont Chamber members welcome to join!
X-ALT-DESC;FMTTYPE=text/html:<p>As a business owner\, you&#39\;re facing a real challenge - creating content that actually connects with customers and grows your business. The endless content treadmill feels overwhelming\, and your ideal customers seem harder to reach every day.&nbsp\; You don&#39\;t have to figure this out alone.&nbsp\; Join us and transform from content-confused to confidently connecting with customers who are eager to work with you.&nbsp\;<br />\n<br />\nAt the Business Content Creators Group\, you&#39\;ll find:<br />\n<br />\n<strong>A supportive community&nbsp\;</strong>of fellow business owners who understand your struggles<br />\n<br />\n<strong>Mastermind sessions</strong>&nbsp\;where collective wisdom helps solve your specific content challenges<br />\n<br />\n<strong>Honest\, helpful feedback</strong>&nbsp\;on your content before you publish it to the world<br />\n<br />\n<strong>Simple\, proven frameworks</strong>&nbsp\;that make content creation less overwhelming and more effective<br />\n<br />\nAll Longmont Chamber members welcome to join!&nbsp\;<br />\n&nbsp\;</p>\n
LOCATION:Longmont Public Media 457 4th Ave
UID:e.3083.12280
SEQUENCE:3
DTSTAMP:20260421T160017Z
URL:https://members.longmontchamber.org/events/details/business-content-creators-networking-group-12280
END:VEVENT

END:VCALENDAR
