BEGIN:VCALENDAR
VERSION:2.0
PRODID:-//ChamberMaster//Event Calendar 2.0//EN
METHOD:PUBLISH
X-PUBLISHED-TTL:P3D
REFRESH-INTERVAL:P3D
CALSCALE:GREGORIAN
BEGIN:VEVENT
DTSTART:20241211T230000Z
DTEND:20241212T040000Z
X-MICROSOFT-CDO-ALLDAYEVENT:FALSE
SUMMARY:Cactus Anejo Holiday Botle Release!
DESCRIPTION:Dry Land Distillers is releasing the 2024 Holiday Spirit on December 11th\, just in time to warm the season!\n\nFeatured this year is our barrel-aged Cactus Anejo in 750 ml bottles for the first time! It's a deliciously smooth\, elegant\, and caramelly spirit with earthy\, smoky notes creating a balanced foundation. A delicious spirit for the holidays that is sure to warm even the most curmudgeonly heart!\n\nWe also will have sample spirit gift packs available\, which are perfect for stocking stuffers!\n\nWhile you are in\, treat yourself to a rotating Winter Gimlet\, Winter Mojito\, or The Journalist!\n\nHolidays\, here we go!
X-ALT-DESC;FMTTYPE=text/html:<p><span style="font-family:arial\,helvetica\,sans-serif">Dry Land Distillers is releasing the 2024 Holiday Spirit on December 11th\, just in time to warm the season!</span></p>\n\n<p><span style="font-family:arial\,helvetica\,sans-serif">Featured this year is our barrel-aged Cactus Anejo in 750 ml bottles for the first time! It&#39\;s a deliciously smooth\, elegant\, and caramelly spirit with earthy\, smoky notes creating a balanced foundation. A delicious spirit for the holidays that is sure to warm even the most curmudgeonly heart!</span></p>\n\n<p><span style="font-family:arial\,helvetica\,sans-serif">We also will have sample spirit gift packs available\, which are perfect for stocking stuffers!</span></p>\n\n<p><span style="font-family:arial\,helvetica\,sans-serif">While you are in\, treat yourself to a rotating Winter Gimlet\, Winter Mojito\, or The Journalist!</span></p>\n\n<p>Holidays\, here we go!&nbsp\;</p>\n
LOCATION:Dry Land Distillers
UID:e.3083.10503
SEQUENCE:3
DTSTAMP:20260421T203923Z
URL:https://members.longmontchamber.org/events/details/cactus-anejo-holiday-botle-release-10503
END:VEVENT

END:VCALENDAR
