BEGIN:VCALENDAR
VERSION:2.0
PRODID:-//ChamberMaster//Event Calendar 2.0//EN
METHOD:PUBLISH
X-PUBLISHED-TTL:P3D
REFRESH-INTERVAL:P3D
CALSCALE:GREGORIAN
BEGIN:VEVENT
DTSTART:20250723T233000Z
DTEND:20250724T020000Z
X-MICROSOFT-CDO-ALLDAYEVENT:FALSE
SUMMARY:Callahan House Art in the Garden Series: Macrame Wall Hanging
DESCRIPTION:Macrame Wall Hanging\n\n\nRelax in the beautiful Callahan Gardens while making art and sipping on a delicious local beverage. All supplies\, instruction\, and 2 drink tokens included in the class fee. No refunds for cancellations within 48 hours of class.\n\n\n\n\n\nLearn the knots and techniques to create a colorful macram  wall hanging while enjoying some local drinks. Take your unique piece home to bring some warmth\, texture and boho vibe to any room.
X-ALT-DESC;FMTTYPE=text/html:<h2><br />\nMacrame Wall Hanging</h2>\n\n<div>\n<div style="background:transparent\; border:0px\; padding:0px"><span style="font-size:20px\;">Relax in the beautiful Callahan Gardens while making art and sipping on a delicious local beverage. All supplies\, instruction\, and 2 drink tokens included in the class fee. No refunds for cancellations within 48 hours of class.</span></div>\n</div>\n\n<div>\n<div style="background:transparent\; border:0px\; padding:0px"><br />\n<span style="font-size:20px\;">Learn the knots and techniques to create a colorful macram&eacute\; wall hanging while enjoying some local drinks. Take your unique piece home to bring some warmth\, texture and boho vibe to any room.</span></div>\n</div>\n
LOCATION:Callahan House
UID:e.3083.13550
SEQUENCE:3
DTSTAMP:20260421T095657Z
URL:https://members.longmontchamber.org/events/details/callahan-house-art-in-the-garden-series-macrame-wall-hanging-13550
END:VEVENT

END:VCALENDAR
