BEGIN:VCALENDAR
VERSION:2.0
PRODID:-//ChamberMaster//Event Calendar 2.0//EN
METHOD:PUBLISH
X-PUBLISHED-TTL:P3D
REFRESH-INTERVAL:P3D
CALSCALE:GREGORIAN
BEGIN:VEVENT
DTSTART:20250807T233000Z
DTEND:20250808T020000Z
X-MICROSOFT-CDO-ALLDAYEVENT:FALSE
SUMMARY:Callahan House Art in the Garden Series: Watercolor Summer Flowers
DESCRIPTION:Watercolor Summer Flowers\n\n\nRelax in the beautiful Callahan Gardens while making art and sipping on a delicious local beverage. All supplies\, instruction\, and 2 drink tokens included in the class fee. No refunds for cancellations within 48 hours of class.\n\n\n\n\n\nLearn to paint flowers with watercolors while enjoying some local drinks. The perfect surroundings to inspire you and learn some fun watercolor techniques that will keep you wanting to paint more.
X-ALT-DESC;FMTTYPE=text/html:<h2><br />\nWatercolor Summer Flowers</h2>\n\n<div>\n<div style="background:transparent\; border:0px\; padding:0px"><span style="font-size:20px\;">Relax in the beautiful Callahan Gardens while making art and sipping on a delicious local beverage. All supplies\, instruction\, and 2 drink tokens included in the class fee. No refunds for cancellations within 48 hours of class.</span></div>\n</div>\n\n<div>\n<div style="background:transparent\; border:0px\; padding:0px"><br />\n<span style="font-size:20px\;">Learn to paint flowers with watercolors while enjoying some local drinks. The perfect surroundings to inspire you and learn some fun watercolor techniques that will keep you wanting to paint more.</span></div>\n</div>\n
LOCATION:Callahan House
UID:e.3083.13551
SEQUENCE:3
DTSTAMP:20260421T100030Z
URL:https://members.longmontchamber.org/events/details/callahan-house-art-in-the-garden-series-watercolor-summer-flowers-13551
END:VEVENT

END:VCALENDAR
